BEGIN:VCALENDAR
VERSION:2.0
PRODID:-//Slovo života - ECPv6.10.1.1//NONSGML v1.0//EN
CALSCALE:GREGORIAN
METHOD:PUBLISH
X-WR-CALNAME:Slovo života
X-ORIGINAL-URL:https://www.slovozivota.sk/en
X-WR-CALDESC:Events for Slovo života
REFRESH-INTERVAL;VALUE=DURATION:PT1H
X-Robots-Tag:noindex
X-PUBLISHED-TTL:PT1H
BEGIN:VTIMEZONE
TZID:Europe/Bratislava
BEGIN:DAYLIGHT
TZOFFSETFROM:+0100
TZOFFSETTO:+0200
TZNAME:CEST
DTSTART:20260329T010000
END:DAYLIGHT
BEGIN:STANDARD
TZOFFSETFROM:+0200
TZOFFSETTO:+0100
TZNAME:CET
DTSTART:20261025T010000
END:STANDARD
END:VTIMEZONE
BEGIN:VEVENT
DTSTART;VALUE=DATE:20260417
DTEND;VALUE=DATE:20260420
DTSTAMP:20260425T184914
CREATED:20260110T011441Z
LAST-MODIFIED:20260110T011441Z
UID:13968-1776384000-1776643199@www.slovozivota.sk
SUMMARY:Biblická škola a služba v SŽ Milovice\, ČR
DESCRIPTION:Slovo: Martin Hunčár
URL:https://www.slovozivota.sk/en/udalost/biblicka-skola-a-sluzba-v-sz-milovice-cr-4/
ATTACH;FMTTYPE=image/jpeg:https://www.slovozivota.sk/wp-content/uploads/2025/08/banner_bohosluzba_kaze_insta_huncar.jpg
END:VEVENT
END:VCALENDAR