BEGIN:VCALENDAR
VERSION:2.0
PRODID:-//Slovo života - ECPv6.10.1.1//NONSGML v1.0//EN
CALSCALE:GREGORIAN
METHOD:PUBLISH
X-ORIGINAL-URL:https://www.slovozivota.sk/en
X-WR-CALDESC:Events for Slovo života
REFRESH-INTERVAL;VALUE=DURATION:PT1H
X-Robots-Tag:noindex
X-PUBLISHED-TTL:PT1H
BEGIN:VTIMEZONE
TZID:Europe/Bratislava
BEGIN:DAYLIGHT
TZOFFSETFROM:+0100
TZOFFSETTO:+0200
TZNAME:CEST
DTSTART:20260329T010000
END:DAYLIGHT
BEGIN:STANDARD
TZOFFSETFROM:+0200
TZOFFSETTO:+0100
TZNAME:CET
DTSTART:20261025T010000
END:STANDARD
END:VTIMEZONE
BEGIN:VEVENT
DTSTART;VALUE=DATE:20261028
DTEND;VALUE=DATE:20261102
DTSTAMP:20260426T042511
CREATED:20251101T191029Z
LAST-MODIFIED:20251101T191029Z
UID:13748-1793145600-1793577599@www.slovozivota.sk
SUMMARY:Youth conferencie Uppsala
DESCRIPTION:Téma: Sacrifice And Fire
URL:https://www.slovozivota.sk/en/udalost/youth-conferencie-uppsala/
LOCATION:Livets Ord Uppsala\, Axel Johanssonsgata 3\, Uppsala\, Švedsko
END:VEVENT
END:VCALENDAR