BEGIN:VCALENDAR
VERSION:2.0
PRODID:-//Slovo života - ECPv6.10.1.1//NONSGML v1.0//EN
CALSCALE:GREGORIAN
METHOD:PUBLISH
X-WR-CALNAME:Slovo života
X-ORIGINAL-URL:https://www.slovozivota.sk
X-WR-CALDESC:Events for Slovo života
REFRESH-INTERVAL;VALUE=DURATION:PT1H
X-Robots-Tag:noindex
X-PUBLISHED-TTL:PT1H
BEGIN:VTIMEZONE
TZID:Europe/Bratislava
BEGIN:DAYLIGHT
TZOFFSETFROM:+0100
TZOFFSETTO:+0200
TZNAME:CEST
DTSTART:20260329T010000
END:DAYLIGHT
BEGIN:STANDARD
TZOFFSETFROM:+0200
TZOFFSETTO:+0100
TZNAME:CET
DTSTART:20261025T010000
END:STANDARD
END:VTIMEZONE
BEGIN:VEVENT
DTSTART;VALUE=DATE:20260319
DTEND;VALUE=DATE:20260323
DTSTAMP:20260425T184817
CREATED:20260314T151747Z
LAST-MODIFIED:20260314T151824Z
UID:14087-1773878400-1774223999@www.slovozivota.sk
SUMMARY:Misia v Rumunsku
DESCRIPTION:Krátkodobý misijný výjazd mladých v spolupráci s Livets Ord Uppsala v meste Brašov v Rumunsku.
URL:https://www.slovozivota.sk/udalost/misia-v-rumunsku/
END:VEVENT
BEGIN:VEVENT
DTSTART;TZID=Europe/Bratislava:20260320T173000
DTEND;TZID=Europe/Bratislava:20260320T193000
DTSTAMP:20260425T184817
CREATED:20260110T003729Z
LAST-MODIFIED:20260110T003729Z
UID:13928-1774027800-1774035000@www.slovozivota.sk
SUMMARY:G1
DESCRIPTION:G1 je stretnutie dorastu. \nSledujte sociálne siete G1\, aby ste sa dozvedeli presné miesto a čas stretnutia.
URL:https://www.slovozivota.sk/udalost/g1-90/
LOCATION:Slovo života\, Tomášikova 30B\, Bratislava
CATEGORIES:G1,Uvod
ATTACH;FMTTYPE=image/jpeg:https://www.slovozivota.sk/wp-content/uploads/2025/01/banner_g1_dlhy-scaled.jpg
ORGANIZER;CN="Slovo %C5%BEivota Bratislava":MAILTO:slovozivota@slovozivota.sk
END:VEVENT
END:VCALENDAR