BEGIN:VCALENDAR
VERSION:2.0
PRODID:-//Slovo života - ECPv6.10.1.1//NONSGML v1.0//EN
CALSCALE:GREGORIAN
METHOD:PUBLISH
X-ORIGINAL-URL:https://www.slovozivota.sk
X-WR-CALDESC:Events for Slovo života
REFRESH-INTERVAL;VALUE=DURATION:PT1H
X-Robots-Tag:noindex
X-PUBLISHED-TTL:PT1H
BEGIN:VTIMEZONE
TZID:Europe/Bratislava
BEGIN:DAYLIGHT
TZOFFSETFROM:+0100
TZOFFSETTO:+0200
TZNAME:CEST
DTSTART:20260329T010000
END:DAYLIGHT
BEGIN:STANDARD
TZOFFSETFROM:+0200
TZOFFSETTO:+0100
TZNAME:CET
DTSTART:20261025T010000
END:STANDARD
END:VTIMEZONE
BEGIN:VEVENT
DTSTART;VALUE=DATE:20260501
DTEND;VALUE=DATE:20260504
DTSTAMP:20260425T172941
CREATED:20260110T012150Z
LAST-MODIFIED:20260110T012150Z
UID:13970-1777593600-1777852799@www.slovozivota.sk
SUMMARY:Singles víkendovka
DESCRIPTION:Na tento termín plánujeme v rámci KvM ďalšiu Singles víkendovku\, tentoraz v Hoteli Bartoška. \nBližšie info a prihlasovanie je nájdete na stránke KvM.
URL:https://www.slovozivota.sk/udalost/singles-vikendovka-3/
LOCATION:Horský hotel Bartoška\, Čremošné 137\, Turčianske Teplice
CATEGORIES:SPARK
ORGANIZER;CN="Kres%C5%A5ania v meste":MAILTO:kancelaria@krestaniavmeste.sk
END:VEVENT
END:VCALENDAR