BEGIN:VCALENDAR
VERSION:2.0
PRODID:-//Slovo života - ECPv6.10.1.1//NONSGML v1.0//EN
CALSCALE:GREGORIAN
METHOD:PUBLISH
X-WR-CALNAME:Slovo života
X-ORIGINAL-URL:https://www.slovozivota.sk
X-WR-CALDESC:Events for Slovo života
REFRESH-INTERVAL;VALUE=DURATION:PT1H
X-Robots-Tag:noindex
X-PUBLISHED-TTL:PT1H
BEGIN:VTIMEZONE
TZID:Europe/Bratislava
BEGIN:DAYLIGHT
TZOFFSETFROM:+0100
TZOFFSETTO:+0200
TZNAME:CEST
DTSTART:20260329T010000
END:DAYLIGHT
BEGIN:STANDARD
TZOFFSETFROM:+0200
TZOFFSETTO:+0100
TZNAME:CET
DTSTART:20261025T010000
END:STANDARD
END:VTIMEZONE
BEGIN:VEVENT
DTSTART;TZID=Europe/Bratislava:20260508T173000
DTEND;TZID=Europe/Bratislava:20260508T193000
DTSTAMP:20260425T182813
CREATED:20260128T143909Z
LAST-MODIFIED:20260128T143909Z
UID:13988-1778261400-1778268600@www.slovozivota.sk
SUMMARY:G1
DESCRIPTION:G1 je stretnutie dorastu. \nSledujte sociálne siete G1\, aby ste sa dozvedeli presné miesto a čas stretnutia.
URL:https://www.slovozivota.sk/udalost/g1-93/
LOCATION:Slovo života\, Tomášikova 30B\, Bratislava
CATEGORIES:G1,Uvod
ATTACH;FMTTYPE=image/jpeg:https://www.slovozivota.sk/wp-content/uploads/2025/01/banner_g1_dlhy-scaled.jpg
ORGANIZER;CN="Slovo %C5%BEivota Bratislava":MAILTO:slovozivota@slovozivota.sk
END:VEVENT
BEGIN:VEVENT
DTSTART;TZID=Europe/Bratislava:20260508T183000
DTEND;TZID=Europe/Bratislava:20260508T203000
DTSTAMP:20260425T182813
CREATED:20260327T153441Z
LAST-MODIFIED:20260327T153441Z
UID:14170-1778265000-1778272200@www.slovozivota.sk
SUMMARY:Stretnutie vedúcich nášho zboru
DESCRIPTION:
URL:https://www.slovozivota.sk/udalost/stretnutie-veducich-nasho-zboru-6/
LOCATION:Slovo života\, Tomášikova 30B\, Bratislava
ORGANIZER;CN="Slovo %C5%BEivota Bratislava":MAILTO:slovozivota@slovozivota.sk
END:VEVENT
END:VCALENDAR