BEGIN:VCALENDAR
VERSION:2.0
PRODID:-//Slovo života - ECPv6.10.1.1//NONSGML v1.0//EN
CALSCALE:GREGORIAN
METHOD:PUBLISH
X-ORIGINAL-URL:https://www.slovozivota.sk
X-WR-CALDESC:Events for Slovo života
REFRESH-INTERVAL;VALUE=DURATION:PT1H
X-Robots-Tag:noindex
X-PUBLISHED-TTL:PT1H
BEGIN:VTIMEZONE
TZID:Europe/Bratislava
BEGIN:DAYLIGHT
TZOFFSETFROM:+0100
TZOFFSETTO:+0200
TZNAME:CEST
DTSTART:20260329T010000
END:DAYLIGHT
BEGIN:STANDARD
TZOFFSETFROM:+0200
TZOFFSETTO:+0100
TZNAME:CET
DTSTART:20261025T010000
END:STANDARD
END:VTIMEZONE
BEGIN:VEVENT
DTSTART;TZID=Europe/Bratislava:20260510T100000
DTEND;TZID=Europe/Bratislava:20260510T121500
DTSTAMP:20260425T182855
CREATED:20260327T142439Z
LAST-MODIFIED:20260327T142439Z
UID:14148-1778407200-1778415300@www.slovozivota.sk
SUMMARY:Bohoslužba s hosťom
DESCRIPTION:Pozývame vás na bohoslužbu na Tomášikovej\, samozrejme naďalej zabezpečujeme aj ONLINE prenos. \nSlovo: Majo Ovčár\nZbierka: Peter Čuřík
URL:https://www.slovozivota.sk/udalost/bohosluzba-s-hostom-18/
LOCATION:Slovo života\, Tomášikova 30B\, Bratislava
CATEGORIES:G1,SPARK,Uvod
ORGANIZER;CN="Slovo %C5%BEivota Bratislava":MAILTO:slovozivota@slovozivota.sk
END:VEVENT
BEGIN:VEVENT
DTSTART;TZID=Europe/Bratislava:20260510T160000
DTEND;TZID=Europe/Bratislava:20260510T180000
DTSTAMP:20260425T182855
CREATED:20260408T131731Z
LAST-MODIFIED:20260408T131731Z
UID:14195-1778428800-1778436000@www.slovozivota.sk
SUMMARY:Bohoslužba v SŽ B. Bystrica
DESCRIPTION:slovo: Martin Hunčár
URL:https://www.slovozivota.sk/udalost/bohosluzba-v-sz-b-bystrica-39/
LOCATION:Slovo života BB\, Kukučínova 8\, Banská Bystrica
ATTACH;FMTTYPE=image/jpeg:https://www.slovozivota.sk/wp-content/uploads/2025/08/banner_bohosluzba_kaze_insta_huncar.jpg
ORGANIZER;CN="Slovo %C5%BEivota Bratislava":MAILTO:slovozivota@slovozivota.sk
END:VEVENT
END:VCALENDAR