BEGIN:VCALENDAR
VERSION:2.0
PRODID:-//Slovo života - ECPv6.10.1.1//NONSGML v1.0//EN
CALSCALE:GREGORIAN
METHOD:PUBLISH
X-ORIGINAL-URL:https://www.slovozivota.sk
X-WR-CALDESC:Events for Slovo života
REFRESH-INTERVAL;VALUE=DURATION:PT1H
X-Robots-Tag:noindex
X-PUBLISHED-TTL:PT1H
BEGIN:VTIMEZONE
TZID:Europe/Bratislava
BEGIN:DAYLIGHT
TZOFFSETFROM:+0100
TZOFFSETTO:+0200
TZNAME:CEST
DTSTART:20260329T010000
END:DAYLIGHT
BEGIN:STANDARD
TZOFFSETFROM:+0200
TZOFFSETTO:+0100
TZNAME:CET
DTSTART:20261025T010000
END:STANDARD
END:VTIMEZONE
BEGIN:VEVENT
DTSTART;TZID=Europe/Bratislava:20260524T100000
DTEND;TZID=Europe/Bratislava:20260524T120000
DTSTAMP:20260425T182855
CREATED:20260327T144440Z
LAST-MODIFIED:20260327T144440Z
UID:14154-1779616800-1779624000@www.slovozivota.sk
SUMMARY:Bohoslužba v SŽ Prievidza
DESCRIPTION:káže: Martin Hunčár
URL:https://www.slovozivota.sk/udalost/bohosluzba-v-sz-prievidza-13/
LOCATION:Slovo života Prievidza\, A. Mišúta 32\, Prievidza\, Slovenská republika
CATEGORIES:SPARK,Uvod
ATTACH;FMTTYPE=image/jpeg:https://www.slovozivota.sk/wp-content/uploads/2025/08/banner_bohosluzba_kaze_insta_huncar.jpg
ORGANIZER;CN="Slovo %C5%BEivota Bratislava":MAILTO:slovozivota@slovozivota.sk
END:VEVENT
BEGIN:VEVENT
DTSTART;TZID=Europe/Bratislava:20260524T100000
DTEND;TZID=Europe/Bratislava:20260524T121500
DTSTAMP:20260425T182855
CREATED:20260327T142547Z
LAST-MODIFIED:20260327T142547Z
UID:14150-1779616800-1779624900@www.slovozivota.sk
SUMMARY:Bohoslužba
DESCRIPTION:Pozývame vás na bohoslužbu na Tomášikovej\, samozrejme naďalej zabezpečujeme aj ONLINE prenos. \nSlovo: Tomáš Šimko\nZbierka: Peter Čuřík
URL:https://www.slovozivota.sk/udalost/bohosluzba-213/
LOCATION:Slovo života\, Tomášikova 30B\, Bratislava
CATEGORIES:G1,SPARK,Uvod
ATTACH;FMTTYPE=image/jpeg:https://www.slovozivota.sk/wp-content/uploads/2025/07/banner_bohosluzba_Tomasikova_insta_Simko.jpg
ORGANIZER;CN="Slovo %C5%BEivota Bratislava":MAILTO:slovozivota@slovozivota.sk
END:VEVENT
END:VCALENDAR