BEGIN:VCALENDAR
VERSION:2.0
PRODID:-//Slovo života - ECPv6.10.1.1//NONSGML v1.0//EN
CALSCALE:GREGORIAN
METHOD:PUBLISH
X-ORIGINAL-URL:https://www.slovozivota.sk
X-WR-CALDESC:Events for Slovo života
REFRESH-INTERVAL;VALUE=DURATION:PT1H
X-Robots-Tag:noindex
X-PUBLISHED-TTL:PT1H
BEGIN:VTIMEZONE
TZID:Europe/Bratislava
BEGIN:DAYLIGHT
TZOFFSETFROM:+0100
TZOFFSETTO:+0200
TZNAME:CEST
DTSTART:20260329T010000
END:DAYLIGHT
BEGIN:STANDARD
TZOFFSETFROM:+0200
TZOFFSETTO:+0100
TZNAME:CET
DTSTART:20261025T010000
END:STANDARD
END:VTIMEZONE
BEGIN:VEVENT
DTSTART;TZID=Europe/Bratislava:20260531T100000
DTEND;TZID=Europe/Bratislava:20260531T121500
DTSTAMP:20260425T182854
CREATED:20260327T142109Z
LAST-MODIFIED:20260408T132300Z
UID:14141-1780221600-1780229700@www.slovozivota.sk
SUMMARY:Bohoslužba
DESCRIPTION:Pozývame vás na bohoslužbu na Tomášikovej\, samozrejme naďalej zabezpečujeme aj ONLINE prenos. \nSlovo: Peter Čuřík\nZbierka: Martin Hunčár
URL:https://www.slovozivota.sk/udalost/bohosluzba-210/
LOCATION:Slovo života\, Tomášikova 30B\, Bratislava
CATEGORIES:G1,SPARK,Uvod
ATTACH;FMTTYPE=image/jpeg:https://www.slovozivota.sk/wp-content/uploads/2025/07/banner_bohosluzba_Tomasikova_insta_Curik.jpg
ORGANIZER;CN="Slovo %C5%BEivota Bratislava":MAILTO:slovozivota@slovozivota.sk
END:VEVENT
BEGIN:VEVENT
DTSTART;TZID=Europe/Bratislava:20260531T123000
DTEND;TZID=Europe/Bratislava:20260531T133000
DTSTAMP:20260425T182854
CREATED:20260408T132446Z
LAST-MODIFIED:20260408T132446Z
UID:14201-1780230600-1780234200@www.slovozivota.sk
SUMMARY:Plánujeme vodný krst
DESCRIPTION:
URL:https://www.slovozivota.sk/udalost/planujeme-vodny-krst/
LOCATION:Slovo života\, Tomášikova 30B\, Bratislava
CATEGORIES:Uvod
ATTACH;FMTTYPE=image/jpeg:https://www.slovozivota.sk/wp-content/uploads/2022/08/banner_vodny_krst_ppt.jpg
ORGANIZER;CN="Slovo %C5%BEivota Bratislava":MAILTO:slovozivota@slovozivota.sk
END:VEVENT
END:VCALENDAR