BEGIN:VCALENDAR
VERSION:2.0
PRODID:-//Slovo života - ECPv6.10.1.1//NONSGML v1.0//EN
CALSCALE:GREGORIAN
METHOD:PUBLISH
X-WR-CALNAME:Slovo života
X-ORIGINAL-URL:https://www.slovozivota.sk
X-WR-CALDESC:Events for Slovo života
REFRESH-INTERVAL;VALUE=DURATION:PT1H
X-Robots-Tag:noindex
X-PUBLISHED-TTL:PT1H
BEGIN:VTIMEZONE
TZID:Europe/Bratislava
BEGIN:DAYLIGHT
TZOFFSETFROM:+0100
TZOFFSETTO:+0200
TZNAME:CEST
DTSTART:20260329T010000
END:DAYLIGHT
BEGIN:STANDARD
TZOFFSETFROM:+0200
TZOFFSETTO:+0100
TZNAME:CET
DTSTART:20261025T010000
END:STANDARD
END:VTIMEZONE
BEGIN:VEVENT
DTSTART;TZID=Europe/Bratislava:20260301T100000
DTEND;TZID=Europe/Bratislava:20260301T120000
DTSTAMP:20260425T171916
CREATED:20260110T010312Z
LAST-MODIFIED:20260110T010312Z
UID:13954-1772359200-1772366400@www.slovozivota.sk
SUMMARY:Bohoslužba v SŽ Prievidza
DESCRIPTION:káže: Peter Čuřík
URL:https://www.slovozivota.sk/udalost/bohosluzba-v-sz-prievidza-12/
LOCATION:Slovo života Prievidza\, A. Mišúta 32\, Prievidza\, Slovenská republika
CATEGORIES:SPARK,Uvod
ATTACH;FMTTYPE=image/jpeg:https://www.slovozivota.sk/wp-content/uploads/2025/08/banner_bohosluzba_kaze_insta_curik.jpg
ORGANIZER;CN="Slovo %C5%BEivota Bratislava":MAILTO:slovozivota@slovozivota.sk
END:VEVENT
BEGIN:VEVENT
DTSTART;TZID=Europe/Bratislava:20260301T100000
DTEND;TZID=Europe/Bratislava:20260301T121500
DTSTAMP:20260425T171916
CREATED:20260109T195035Z
LAST-MODIFIED:20260218T171320Z
UID:13893-1772359200-1772367300@www.slovozivota.sk
SUMMARY:Bohoslužba s Večerou Pánovou
DESCRIPTION:Pozývame vás na bohoslužbu na Tomášikovej\, samozrejme naďalej zabezpečujeme aj ONLINE prenos. \nSlovo: Martin Hunčár\nZbierka: Tomáš Šimko
URL:https://www.slovozivota.sk/udalost/bohosluzba-202/
LOCATION:Slovo života\, Tomášikova 30B\, Bratislava
CATEGORIES:G1,SPARK,Uvod
ATTACH;FMTTYPE=image/jpeg:https://www.slovozivota.sk/wp-content/uploads/2025/07/banner_bohosluzba_Tomasikova_insta_Huncar.jpg
ORGANIZER;CN="Slovo %C5%BEivota Bratislava":MAILTO:slovozivota@slovozivota.sk
END:VEVENT
BEGIN:VEVENT
DTSTART;TZID=Europe/Bratislava:20260302T183000
DTEND;TZID=Europe/Bratislava:20260302T200000
DTSTAMP:20260425T171916
CREATED:20260110T004509Z
LAST-MODIFIED:20260110T004509Z
UID:13936-1772476200-1772481600@www.slovozivota.sk
SUMMARY:Modlitby v sále
DESCRIPTION:Tentoraz nebude ZOOM modlitebná\, ale budeme spoločne naživo v sále na Tomášikovej 30. Príďte sa prihovárať pred Pánovu tvár spolu s nami! \nVedie: Katka Čuříková\, Mirka Vajdová\, Martin Hunčár\, Jozef Turic \nTéma: Za sesterstvo a mužstvo \n 
URL:https://www.slovozivota.sk/udalost/modlitby-v-sale-15/
LOCATION:Slovo života\, Tomášikova 30B\, Bratislava
CATEGORIES:Uvod
ATTACH;FMTTYPE=image/png:https://www.slovozivota.sk/wp-content/uploads/2025/01/banner_modlitby_Tomasikova_pondelok.png
ORGANIZER;CN="Slovo %C5%BEivota Bratislava":MAILTO:slovozivota@slovozivota.sk
END:VEVENT
BEGIN:VEVENT
DTSTART;TZID=Europe/Bratislava:20260305T180000
DTEND;TZID=Europe/Bratislava:20260305T203000
DTSTAMP:20260425T171916
CREATED:20260110T003215Z
LAST-MODIFIED:20260110T003215Z
UID:13912-1772733600-1772742600@www.slovozivota.sk
SUMMARY:Spark
DESCRIPTION:Spark je stretnutie mládeže od 16 do 28 rokov. 🙂 \nDôležité informácie o stretnutí dostanú sparkisti cez chat a cez webstránku sparksz.sk.
URL:https://www.slovozivota.sk/udalost/spark-173/
LOCATION:Slovo života\, Tomášikova 30B\, Bratislava
CATEGORIES:SPARK,Uvod
ATTACH;FMTTYPE=image/jpeg:https://www.slovozivota.sk/wp-content/uploads/2025/07/banner_spark_insta_2025.jpg
ORGANIZER;CN="Slovo %C5%BEivota Bratislava":MAILTO:slovozivota@slovozivota.sk
END:VEVENT
BEGIN:VEVENT
DTSTART;TZID=Europe/Bratislava:20260306T173000
DTEND;TZID=Europe/Bratislava:20260306T193000
DTSTAMP:20260425T171916
CREATED:20260110T003657Z
LAST-MODIFIED:20260110T003657Z
UID:13926-1772818200-1772825400@www.slovozivota.sk
SUMMARY:G1
DESCRIPTION:G1 je stretnutie dorastu. \nSledujte sociálne siete G1\, aby ste sa dozvedeli presné miesto a čas stretnutia.
URL:https://www.slovozivota.sk/udalost/g1-89/
LOCATION:Slovo života\, Tomášikova 30B\, Bratislava
CATEGORIES:G1,Uvod
ATTACH;FMTTYPE=image/jpeg:https://www.slovozivota.sk/wp-content/uploads/2025/01/banner_g1_dlhy-scaled.jpg
ORGANIZER;CN="Slovo %C5%BEivota Bratislava":MAILTO:slovozivota@slovozivota.sk
END:VEVENT
BEGIN:VEVENT
DTSTART;TZID=Europe/Bratislava:20260307T170000
DTEND;TZID=Europe/Bratislava:20260307T210000
DTSTAMP:20260425T171916
CREATED:20260110T010448Z
LAST-MODIFIED:20260206T144637Z
UID:13956-1772902800-1772917200@www.slovozivota.sk
SUMMARY:Večer pre ňu
DESCRIPTION:Milované priateľky\, \ndovoľte mi\, aby som vás pozvala na opäť výnimočný Večer pre ňu\, ktorý sa uskutoční v sobotu 7.3.2026 o 17.00 hodine v priestoroch Slova života\, Tomášikova 30\, Bratislava \nJe nám veľkou cťou\, že medzi nami privítame špeciálnu hosťku zo zahraničia Brandi Carrano\, ktorá\, spolu so svojím manželom\, pôsobia ako pastori a misionári v španielskej Barcelone. \n>>> REGISTRÁCIA a viac info <<< \n  \n 
URL:https://www.slovozivota.sk/udalost/vecer-pre-nu-14/
LOCATION:Slovo života\, Tomášikova 30B\, Bratislava
CATEGORIES:SPARK,Uvod
ATTACH;FMTTYPE=image/jpeg:https://www.slovozivota.sk/wp-content/uploads/2026/01/banner_vecer_pre_nu_20260307_insta.jpg
ORGANIZER;CN="Slovo %C5%BEivota Bratislava":MAILTO:slovozivota@slovozivota.sk
END:VEVENT
BEGIN:VEVENT
DTSTART;TZID=Europe/Bratislava:20260308T100000
DTEND;TZID=Europe/Bratislava:20260308T121500
DTSTAMP:20260425T171916
CREATED:20260109T195219Z
LAST-MODIFIED:20260218T172302Z
UID:13895-1772964000-1772972100@www.slovozivota.sk
SUMMARY:Bohoslužba s hosťom
DESCRIPTION:Pozývame vás na bohoslužbu na Tomášikovej\, samozrejme naďalej zabezpečujeme aj ONLINE prenos. \nSlovo: Brandi Carrano\nZbierka: Peter Čuřík Jr.
URL:https://www.slovozivota.sk/udalost/bohosluzba-204/
LOCATION:Slovo života\, Tomášikova 30B\, Bratislava
CATEGORIES:G1,SPARK,Uvod
ATTACH;FMTTYPE=image/jpeg:https://www.slovozivota.sk/wp-content/uploads/2026/01/banner_bohosluzba_host_Brandi_Carrano_20260308_insta.jpg
ORGANIZER;CN="Slovo %C5%BEivota Bratislava":MAILTO:slovozivota@slovozivota.sk
END:VEVENT
BEGIN:VEVENT
DTSTART;TZID=Europe/Bratislava:20260312T180000
DTEND;TZID=Europe/Bratislava:20260312T203000
DTSTAMP:20260425T171916
CREATED:20260110T003249Z
LAST-MODIFIED:20260110T003249Z
UID:13914-1773338400-1773347400@www.slovozivota.sk
SUMMARY:Spark
DESCRIPTION:Spark je stretnutie mládeže od 16 do 28 rokov. 🙂 \nDôležité informácie o stretnutí dostanú sparkisti cez chat a cez webstránku sparksz.sk.
URL:https://www.slovozivota.sk/udalost/spark-174/
LOCATION:Slovo života\, Tomášikova 30B\, Bratislava
CATEGORIES:SPARK,Uvod
ATTACH;FMTTYPE=image/jpeg:https://www.slovozivota.sk/wp-content/uploads/2025/07/banner_spark_insta_2025.jpg
ORGANIZER;CN="Slovo %C5%BEivota Bratislava":MAILTO:slovozivota@slovozivota.sk
END:VEVENT
BEGIN:VEVENT
DTSTART;TZID=Europe/Bratislava:20260315T100000
DTEND;TZID=Europe/Bratislava:20260315T121500
DTSTAMP:20260425T171916
CREATED:20260314T151605Z
LAST-MODIFIED:20260314T151605Z
UID:14085-1773568800-1773576900@www.slovozivota.sk
SUMMARY:Bohoslužba
DESCRIPTION:Pozývame vás na bohoslužbu na Tomášikovej\, samozrejme naďalej zabezpečujeme aj ONLINE prenos. \nSlovo: Peter Čuřík\nZbierka: Tomáš Šimko
URL:https://www.slovozivota.sk/udalost/bohosluzba-205/
LOCATION:Slovo života\, Tomášikova 30B\, Bratislava
CATEGORIES:G1,SPARK,Uvod
ATTACH;FMTTYPE=image/jpeg:https://www.slovozivota.sk/wp-content/uploads/2025/07/banner_bohosluzba_Tomasikova_insta_Curik.jpg
ORGANIZER;CN="Slovo %C5%BEivota Bratislava":MAILTO:slovozivota@slovozivota.sk
END:VEVENT
BEGIN:VEVENT
DTSTART;TZID=Europe/Bratislava:20260316T183000
DTEND;TZID=Europe/Bratislava:20260316T200000
DTSTAMP:20260425T171916
CREATED:20260110T004609Z
LAST-MODIFIED:20260110T004609Z
UID:13938-1773685800-1773691200@www.slovozivota.sk
SUMMARY:Modlitby v sále
DESCRIPTION:Tentoraz nebude ZOOM modlitebná\, ale budeme spoločne naživo v sále na Tomášikovej 30. Príďte sa prihovárať pred Pánovu tvár spolu s nami! \nVedie: Peter Čuřík\, Andrej Rudolf\, Jarka Marcineková \nTéma: Za cirkev a prebudenie \n 
URL:https://www.slovozivota.sk/udalost/modlitby-v-sale-16/
LOCATION:Slovo života\, Tomášikova 30B\, Bratislava
CATEGORIES:Uvod
ATTACH;FMTTYPE=image/png:https://www.slovozivota.sk/wp-content/uploads/2025/01/banner_modlitby_Tomasikova_pondelok.png
ORGANIZER;CN="Slovo %C5%BEivota Bratislava":MAILTO:slovozivota@slovozivota.sk
END:VEVENT
BEGIN:VEVENT
DTSTART;VALUE=DATE:20260319
DTEND;VALUE=DATE:20260323
DTSTAMP:20260425T171916
CREATED:20260314T151747Z
LAST-MODIFIED:20260314T151824Z
UID:14087-1773878400-1774223999@www.slovozivota.sk
SUMMARY:Misia v Rumunsku
DESCRIPTION:Krátkodobý misijný výjazd mladých v spolupráci s Livets Ord Uppsala v meste Brašov v Rumunsku.
URL:https://www.slovozivota.sk/udalost/misia-v-rumunsku/
END:VEVENT
BEGIN:VEVENT
DTSTART;TZID=Europe/Bratislava:20260319T180000
DTEND;TZID=Europe/Bratislava:20260319T203000
DTSTAMP:20260425T171916
CREATED:20260110T003327Z
LAST-MODIFIED:20260110T003327Z
UID:13916-1773943200-1773952200@www.slovozivota.sk
SUMMARY:Spark
DESCRIPTION:Spark je stretnutie mládeže od 16 do 28 rokov. 🙂 \nDôležité informácie o stretnutí dostanú sparkisti cez chat a cez webstránku sparksz.sk.
URL:https://www.slovozivota.sk/udalost/spark-175/
LOCATION:Slovo života\, Tomášikova 30B\, Bratislava
CATEGORIES:SPARK,Uvod
ATTACH;FMTTYPE=image/jpeg:https://www.slovozivota.sk/wp-content/uploads/2025/07/banner_spark_insta_2025.jpg
ORGANIZER;CN="Slovo %C5%BEivota Bratislava":MAILTO:slovozivota@slovozivota.sk
END:VEVENT
BEGIN:VEVENT
DTSTART;TZID=Europe/Bratislava:20260320T173000
DTEND;TZID=Europe/Bratislava:20260320T193000
DTSTAMP:20260425T171916
CREATED:20260110T003729Z
LAST-MODIFIED:20260110T003729Z
UID:13928-1774027800-1774035000@www.slovozivota.sk
SUMMARY:G1
DESCRIPTION:G1 je stretnutie dorastu. \nSledujte sociálne siete G1\, aby ste sa dozvedeli presné miesto a čas stretnutia.
URL:https://www.slovozivota.sk/udalost/g1-90/
LOCATION:Slovo života\, Tomášikova 30B\, Bratislava
CATEGORIES:G1,Uvod
ATTACH;FMTTYPE=image/jpeg:https://www.slovozivota.sk/wp-content/uploads/2025/01/banner_g1_dlhy-scaled.jpg
ORGANIZER;CN="Slovo %C5%BEivota Bratislava":MAILTO:slovozivota@slovozivota.sk
END:VEVENT
BEGIN:VEVENT
DTSTART;TZID=Europe/Bratislava:20260321T090000
DTEND;TZID=Europe/Bratislava:20260321T111500
DTSTAMP:20260425T171916
CREATED:20260110T010820Z
LAST-MODIFIED:20260311T114144Z
UID:13960-1774083600-1774091700@www.slovozivota.sk
SUMMARY:Raňajky pre mužov
DESCRIPTION:Srdečne vás pozývame na sobotné Raňajky pre mužov. Je to jedinečná príležitosť porozprávať sa na mužské témy a spoznať nových priateľov pri jedle\, chválach\, slovku a čaká vás aj bonusový program plný zábavy. \nTentokrát nám poslúži hosť Dr. Ľuboš Lacho \nTéma: Život viery v časoch neistoty  \nRaňajky pre mužov Slova života na Tomášikovej 30 sú zárukou výborného začiatku víkendu. \nMuži od 16 do 120 rokov \nČas: sobota 21.3.2026 od 9.00\nMiesto: Slovo života\, Tomášikova 30\, Bratislava\n \nRegistrácia:\n\n                    Raňajky pre mužovPotvrdenie o zaregistrovaní dostanete okamžite e-mailom (skontrolujte si prípadne aj SPAM priečinok). MenoPriezviskoEmailRegistrácia
URL:https://www.slovozivota.sk/udalost/ranajky-pre-muzov-10/
LOCATION:Slovo života\, Tomášikova 30B\, Bratislava
CATEGORIES:Uvod
ATTACH;FMTTYPE=image/jpeg:https://www.slovozivota.sk/wp-content/uploads/2026/01/banner_ranajky_pre_muzov_insta_202603-1.jpg
ORGANIZER;CN="Slovo %C5%BEivota Bratislava":MAILTO:slovozivota@slovozivota.sk
END:VEVENT
BEGIN:VEVENT
DTSTART;TZID=Europe/Bratislava:20260322T100000
DTEND;TZID=Europe/Bratislava:20260322T120000
DTSTAMP:20260425T171916
CREATED:20260110T011102Z
LAST-MODIFIED:20260110T011102Z
UID:13964-1774173600-1774180800@www.slovozivota.sk
SUMMARY:Spojená bohoslužba SŽ B. Štiavnica a SŽ B. Bystrica
DESCRIPTION:káže: Tomáš Šimko
URL:https://www.slovozivota.sk/udalost/spojena-bohosluzba-sz-b-stiavnica-a-sz-b-bystrica-2/
LOCATION:Slovo života BŠ\, Križovatka 1808/12A\, Banská Štiavnica\, Slovakia (Slovak Republic)
ATTACH;FMTTYPE=image/jpeg:https://www.slovozivota.sk/wp-content/uploads/2025/08/banner_bohosluzba_kaze_insta_simko.jpg
ORGANIZER;CN="Slovo %C5%BEivota Bratislava":MAILTO:slovozivota@slovozivota.sk
END:VEVENT
BEGIN:VEVENT
DTSTART;TZID=Europe/Bratislava:20260322T100000
DTEND;TZID=Europe/Bratislava:20260322T121500
DTSTAMP:20260425T171916
CREATED:20260314T152430Z
LAST-MODIFIED:20260314T152430Z
UID:14089-1774173600-1774181700@www.slovozivota.sk
SUMMARY:Bohoslužba
DESCRIPTION:Pozývame vás na bohoslužbu na Tomášikovej\, samozrejme naďalej zabezpečujeme aj ONLINE prenos. \n 
URL:https://www.slovozivota.sk/udalost/bohosluzba-206/
LOCATION:Slovo života\, Tomášikova 30B\, Bratislava
CATEGORIES:G1,SPARK,Uvod
ORGANIZER;CN="Slovo %C5%BEivota Bratislava":MAILTO:slovozivota@slovozivota.sk
END:VEVENT
BEGIN:VEVENT
DTSTART;TZID=Europe/Bratislava:20260326T180000
DTEND;TZID=Europe/Bratislava:20260326T203000
DTSTAMP:20260425T171916
CREATED:20260110T003401Z
LAST-MODIFIED:20260110T003401Z
UID:13918-1774548000-1774557000@www.slovozivota.sk
SUMMARY:Spark
DESCRIPTION:Spark je stretnutie mládeže od 16 do 28 rokov. 🙂 \nDôležité informácie o stretnutí dostanú sparkisti cez chat a cez webstránku sparksz.sk.
URL:https://www.slovozivota.sk/udalost/spark-176/
LOCATION:Slovo života\, Tomášikova 30B\, Bratislava
CATEGORIES:SPARK,Uvod
ATTACH;FMTTYPE=image/jpeg:https://www.slovozivota.sk/wp-content/uploads/2025/07/banner_spark_insta_2025.jpg
ORGANIZER;CN="Slovo %C5%BEivota Bratislava":MAILTO:slovozivota@slovozivota.sk
END:VEVENT
BEGIN:VEVENT
DTSTART;VALUE=DATE:20260327
DTEND;VALUE=DATE:20260330
DTSTAMP:20260425T171916
CREATED:20260327T141338Z
LAST-MODIFIED:20260327T141338Z
UID:14131-1774569600-1774828799@www.slovozivota.sk
SUMMARY:Biblická škola a služba v SŽ Milovice\, ČR
DESCRIPTION:slovo: Peter Čuřík
URL:https://www.slovozivota.sk/udalost/biblicka-skola-a-sluzba-v-sz-milovice-cr-3/
ATTACH;FMTTYPE=image/jpeg:https://www.slovozivota.sk/wp-content/uploads/2025/08/banner_bohosluzba_kaze_insta_curik.jpg
END:VEVENT
BEGIN:VEVENT
DTSTART;TZID=Europe/Bratislava:20260329T100000
DTEND;TZID=Europe/Bratislava:20260329T121500
DTSTAMP:20260425T171916
CREATED:20260109T195358Z
LAST-MODIFIED:20260218T172530Z
UID:13897-1774778400-1774786500@www.slovozivota.sk
SUMMARY:Bohoslužba
DESCRIPTION:Pozývame vás na bohoslužbu na Tomášikovej\, samozrejme naďalej zabezpečujeme aj ONLINE prenos. \nSlovo: Oto Illéš\nZbierka: Martin Hunčár
URL:https://www.slovozivota.sk/udalost/bohosluzba-203/
LOCATION:Slovo života\, Tomášikova 30B\, Bratislava
CATEGORIES:G1,SPARK,Uvod
ATTACH;FMTTYPE=image/jpeg:https://www.slovozivota.sk/wp-content/uploads/2025/07/banner_bohosluzba_Tomasikova_insta_Illes.jpg
ORGANIZER;CN="Slovo %C5%BEivota Bratislava":MAILTO:slovozivota@slovozivota.sk
END:VEVENT
END:VCALENDAR