BEGIN:VCALENDAR
VERSION:2.0
PRODID:-//Slovo života - ECPv6.10.1.1//NONSGML v1.0//EN
CALSCALE:GREGORIAN
METHOD:PUBLISH
X-ORIGINAL-URL:https://www.slovozivota.sk
X-WR-CALDESC:Events for Slovo života
REFRESH-INTERVAL;VALUE=DURATION:PT1H
X-Robots-Tag:noindex
X-PUBLISHED-TTL:PT1H
BEGIN:VTIMEZONE
TZID:Europe/Bratislava
BEGIN:DAYLIGHT
TZOFFSETFROM:+0100
TZOFFSETTO:+0200
TZNAME:CEST
DTSTART:20260329T010000
END:DAYLIGHT
BEGIN:STANDARD
TZOFFSETFROM:+0200
TZOFFSETTO:+0100
TZNAME:CET
DTSTART:20261025T010000
END:STANDARD
END:VTIMEZONE
BEGIN:VEVENT
DTSTART;TZID=Europe/Bratislava:20260604T180000
DTEND;TZID=Europe/Bratislava:20260604T203000
DTSTAMP:20260425T182943
CREATED:20260408T132553Z
LAST-MODIFIED:20260408T132553Z
UID:14203-1780596000-1780605000@www.slovozivota.sk
SUMMARY:Spark
DESCRIPTION:Spark je stretnutie mládeže od 16 do 28 rokov. 🙂 \nDôležité informácie o stretnutí dostanú sparkisti cez chat a cez webstránku sparksz.sk.
URL:https://www.slovozivota.sk/udalost/spark-185/
LOCATION:Slovo života\, Tomášikova 30B\, Bratislava
CATEGORIES:SPARK,Uvod
ATTACH;FMTTYPE=image/jpeg:https://www.slovozivota.sk/wp-content/uploads/2025/07/banner_spark_insta_2025.jpg
ORGANIZER;CN="Slovo %C5%BEivota Bratislava":MAILTO:slovozivota@slovozivota.sk
END:VEVENT
BEGIN:VEVENT
DTSTART;TZID=Europe/Bratislava:20260605T173000
DTEND;TZID=Europe/Bratislava:20260605T193000
DTSTAMP:20260425T182943
CREATED:20260128T144000Z
LAST-MODIFIED:20260128T144000Z
UID:13992-1780680600-1780687800@www.slovozivota.sk
SUMMARY:G1
DESCRIPTION:G1 je stretnutie dorastu. \nSledujte sociálne siete G1\, aby ste sa dozvedeli presné miesto a čas stretnutia.
URL:https://www.slovozivota.sk/udalost/g1-95/
LOCATION:Slovo života\, Tomášikova 30B\, Bratislava
CATEGORIES:G1,Uvod
ATTACH;FMTTYPE=image/jpeg:https://www.slovozivota.sk/wp-content/uploads/2025/01/banner_g1_dlhy-scaled.jpg
ORGANIZER;CN="Slovo %C5%BEivota Bratislava":MAILTO:slovozivota@slovozivota.sk
END:VEVENT
BEGIN:VEVENT
DTSTART;TZID=Europe/Bratislava:20260607T100000
DTEND;TZID=Europe/Bratislava:20260607T121500
DTSTAMP:20260425T182943
CREATED:20260408T132856Z
LAST-MODIFIED:20260408T132915Z
UID:14211-1780826400-1780834500@www.slovozivota.sk
SUMMARY:Bohoslužba s Večerou Pánovou
DESCRIPTION:Pozývame vás na bohoslužbu na Tomášikovej\, samozrejme naďalej zabezpečujeme aj ONLINE prenos. \nSlovo: Peter Čuřík\nZbierka: Jonatan Pavelka
URL:https://www.slovozivota.sk/udalost/bohosluzba-214/
LOCATION:Slovo života\, Tomášikova 30B\, Bratislava
CATEGORIES:G1,SPARK,Uvod
ATTACH;FMTTYPE=image/jpeg:https://www.slovozivota.sk/wp-content/uploads/2025/07/banner_bohosluzba_Tomasikova_insta_Curik.jpg
ORGANIZER;CN="Slovo %C5%BEivota Bratislava":MAILTO:slovozivota@slovozivota.sk
END:VEVENT
BEGIN:VEVENT
DTSTART;TZID=Europe/Bratislava:20260607T140000
DTEND;TZID=Europe/Bratislava:20260607T180000
DTSTAMP:20260425T182943
CREATED:20260408T133342Z
LAST-MODIFIED:20260408T133342Z
UID:14220-1780840800-1780855200@www.slovozivota.sk
SUMMARY:Family day
DESCRIPTION:Podrobnosti zverejníme neskôr
URL:https://www.slovozivota.sk/udalost/family-day-2/
CATEGORIES:G1,SPARK,Uvod
ORGANIZER;CN="Slovo %C5%BEivota Bratislava":MAILTO:slovozivota@slovozivota.sk
END:VEVENT
BEGIN:VEVENT
DTSTART;TZID=Europe/Bratislava:20260608T183000
DTEND;TZID=Europe/Bratislava:20260608T200000
DTSTAMP:20260425T182943
CREATED:20260408T133506Z
LAST-MODIFIED:20260408T133535Z
UID:14222-1780943400-1780948800@www.slovozivota.sk
SUMMARY:Modlitby v sále
DESCRIPTION:Tentoraz nebude ZOOM modlitebná\, ale budeme spoločne naživo v sále na Tomášikovej 30. Príďte sa prihovárať pred Pánovu tvár spolu s nami! \nVedie: Martin Hunčár\, Jarka Marcineková\, Matej Wittgruber \nTéma: Za učeníctvo a rast služieb \n 
URL:https://www.slovozivota.sk/udalost/modlitby-v-sale-20/
LOCATION:Slovo života\, Tomášikova 30B\, Bratislava
CATEGORIES:Uvod
ATTACH;FMTTYPE=image/png:https://www.slovozivota.sk/wp-content/uploads/2025/01/banner_modlitby_Tomasikova_pondelok.png
ORGANIZER;CN="Slovo %C5%BEivota Bratislava":MAILTO:slovozivota@slovozivota.sk
END:VEVENT
BEGIN:VEVENT
DTSTART;TZID=Europe/Bratislava:20260611T180000
DTEND;TZID=Europe/Bratislava:20260611T203000
DTSTAMP:20260425T182943
CREATED:20260408T132618Z
LAST-MODIFIED:20260408T132618Z
UID:14205-1781200800-1781209800@www.slovozivota.sk
SUMMARY:Spark
DESCRIPTION:Spark je stretnutie mládeže od 16 do 28 rokov. 🙂 \nDôležité informácie o stretnutí dostanú sparkisti cez chat a cez webstránku sparksz.sk.
URL:https://www.slovozivota.sk/udalost/spark-186/
LOCATION:Slovo života\, Tomášikova 30B\, Bratislava
CATEGORIES:SPARK,Uvod
ATTACH;FMTTYPE=image/jpeg:https://www.slovozivota.sk/wp-content/uploads/2025/07/banner_spark_insta_2025.jpg
ORGANIZER;CN="Slovo %C5%BEivota Bratislava":MAILTO:slovozivota@slovozivota.sk
END:VEVENT
BEGIN:VEVENT
DTSTART;VALUE=DATE:20260612
DTEND;VALUE=DATE:20260615
DTSTAMP:20260425T182943
CREATED:20260408T133718Z
LAST-MODIFIED:20260408T133718Z
UID:14224-1781222400-1781481599@www.slovozivota.sk
SUMMARY:Bohoslužba v SŽ Michalovce a AC Košice
DESCRIPTION:Peter Čuřík a Katka Čuříková
URL:https://www.slovozivota.sk/udalost/bohosluzba-v-sz-michalovce-a-ac-kosice/
ATTACH;FMTTYPE=image/jpeg:https://www.slovozivota.sk/wp-content/uploads/2025/08/banner_bohosluzba_kaze_insta_curikovci.jpg
END:VEVENT
BEGIN:VEVENT
DTSTART;TZID=Europe/Bratislava:20260614T100000
DTEND;TZID=Europe/Bratislava:20260614T121500
DTSTAMP:20260425T182943
CREATED:20260408T133030Z
LAST-MODIFIED:20260408T133030Z
UID:14214-1781431200-1781439300@www.slovozivota.sk
SUMMARY:Bohoslužba
DESCRIPTION:Pozývame vás na bohoslužbu na Tomášikovej\, samozrejme naďalej zabezpečujeme aj ONLINE prenos. \nSlovo: Martin Hunčár\nZbierka: Jozef Turic
URL:https://www.slovozivota.sk/udalost/bohosluzba-215/
LOCATION:Slovo života\, Tomášikova 30B\, Bratislava
CATEGORIES:G1,SPARK,Uvod
ATTACH;FMTTYPE=image/jpeg:https://www.slovozivota.sk/wp-content/uploads/2025/07/banner_bohosluzba_Tomasikova_insta_Huncar.jpg
ORGANIZER;CN="Slovo %C5%BEivota Bratislava":MAILTO:slovozivota@slovozivota.sk
END:VEVENT
BEGIN:VEVENT
DTSTART;TZID=Europe/Bratislava:20260618T180000
DTEND;TZID=Europe/Bratislava:20260618T203000
DTSTAMP:20260425T182943
CREATED:20260408T132645Z
LAST-MODIFIED:20260408T132645Z
UID:14207-1781805600-1781814600@www.slovozivota.sk
SUMMARY:Spark
DESCRIPTION:Spark je stretnutie mládeže od 16 do 28 rokov. 🙂 \nDôležité informácie o stretnutí dostanú sparkisti cez chat a cez webstránku sparksz.sk.
URL:https://www.slovozivota.sk/udalost/spark-187/
LOCATION:Slovo života\, Tomášikova 30B\, Bratislava
CATEGORIES:SPARK,Uvod
ATTACH;FMTTYPE=image/jpeg:https://www.slovozivota.sk/wp-content/uploads/2025/07/banner_spark_insta_2025.jpg
ORGANIZER;CN="Slovo %C5%BEivota Bratislava":MAILTO:slovozivota@slovozivota.sk
END:VEVENT
BEGIN:VEVENT
DTSTART;TZID=Europe/Bratislava:20260619T143000
DTEND;TZID=Europe/Bratislava:20260619T200000
DTSTAMP:20260425T182943
CREATED:20260408T134036Z
LAST-MODIFIED:20260408T134036Z
UID:14226-1781879400-1781899200@www.slovozivota.sk
SUMMARY:Stretnutie pastorov a misijných vedúcich
DESCRIPTION:
URL:https://www.slovozivota.sk/udalost/stretnutie-pastorov-a-misijnych-veducich/
LOCATION:Slovo života\, Tomášikova 30B\, Bratislava
ORGANIZER;CN="Slovo %C5%BEivota Bratislava":MAILTO:slovozivota@slovozivota.sk
END:VEVENT
BEGIN:VEVENT
DTSTART;TZID=Europe/Bratislava:20260619T173000
DTEND;TZID=Europe/Bratislava:20260619T193000
DTSTAMP:20260425T182943
CREATED:20260128T144033Z
LAST-MODIFIED:20260128T144033Z
UID:13994-1781890200-1781897400@www.slovozivota.sk
SUMMARY:G1
DESCRIPTION:G1 je stretnutie dorastu. \nSledujte sociálne siete G1\, aby ste sa dozvedeli presné miesto a čas stretnutia.
URL:https://www.slovozivota.sk/udalost/g1-96/
LOCATION:Slovo života\, Tomášikova 30B\, Bratislava
CATEGORIES:G1,Uvod
ATTACH;FMTTYPE=image/jpeg:https://www.slovozivota.sk/wp-content/uploads/2025/01/banner_g1_dlhy-scaled.jpg
ORGANIZER;CN="Slovo %C5%BEivota Bratislava":MAILTO:slovozivota@slovozivota.sk
END:VEVENT
BEGIN:VEVENT
DTSTART;TZID=Europe/Bratislava:20260621T100000
DTEND;TZID=Europe/Bratislava:20260621T121500
DTSTAMP:20260425T182943
CREATED:20260408T133216Z
LAST-MODIFIED:20260421T151453Z
UID:14218-1782036000-1782044100@www.slovozivota.sk
SUMMARY:Bohoslužba s hosťom
DESCRIPTION:Pozývame vás na bohoslužbu na Tomášikovej\, samozrejme naďalej zabezpečujeme aj ONLINE prenos. \nHosť: Micael Lundin
URL:https://www.slovozivota.sk/udalost/bohosluzba-s-hostom-19/
LOCATION:Slovo života\, Tomášikova 30B\, Bratislava
CATEGORIES:G1,SPARK,Uvod
ATTACH;FMTTYPE=image/jpeg:https://www.slovozivota.sk/wp-content/uploads/2026/04/banner_bohosluzba_host_Micael_Lundin_insta.jpg
ORGANIZER;CN="Slovo %C5%BEivota Bratislava":MAILTO:slovozivota@slovozivota.sk
END:VEVENT
BEGIN:VEVENT
DTSTART;TZID=Europe/Bratislava:20260622T183000
DTEND;TZID=Europe/Bratislava:20260622T200000
DTSTAMP:20260425T182943
CREATED:20260408T134223Z
LAST-MODIFIED:20260408T134223Z
UID:14228-1782153000-1782158400@www.slovozivota.sk
SUMMARY:Modlitby v sále
DESCRIPTION:Tentoraz nebude ZOOM modlitebná\, ale budeme spoločne naživo v sále na Tomášikovej 30. Príďte sa prihovárať pred Pánovu tvár spolu s nami! \nVedie: Peter Čuřík\, Tomáš Šimko\, Anamaria Pavelka\, Janči Laurovič \nTéma: Za leto a Spark & G1 tábor \n 
URL:https://www.slovozivota.sk/udalost/modlitby-v-sale-21/
LOCATION:Slovo života\, Tomášikova 30B\, Bratislava
CATEGORIES:Uvod
ATTACH;FMTTYPE=image/png:https://www.slovozivota.sk/wp-content/uploads/2025/01/banner_modlitby_Tomasikova_pondelok.png
ORGANIZER;CN="Slovo %C5%BEivota Bratislava":MAILTO:slovozivota@slovozivota.sk
END:VEVENT
BEGIN:VEVENT
DTSTART;TZID=Europe/Bratislava:20260625T180000
DTEND;TZID=Europe/Bratislava:20260625T203000
DTSTAMP:20260425T182943
CREATED:20260408T132710Z
LAST-MODIFIED:20260408T132710Z
UID:14209-1782410400-1782419400@www.slovozivota.sk
SUMMARY:Spark
DESCRIPTION:Spark je stretnutie mládeže od 16 do 28 rokov. 🙂 \nDôležité informácie o stretnutí dostanú sparkisti cez chat a cez webstránku sparksz.sk.
URL:https://www.slovozivota.sk/udalost/spark-188/
LOCATION:Slovo života\, Tomášikova 30B\, Bratislava
CATEGORIES:SPARK,Uvod
ATTACH;FMTTYPE=image/jpeg:https://www.slovozivota.sk/wp-content/uploads/2025/07/banner_spark_insta_2025.jpg
ORGANIZER;CN="Slovo %C5%BEivota Bratislava":MAILTO:slovozivota@slovozivota.sk
END:VEVENT
BEGIN:VEVENT
DTSTART;TZID=Europe/Bratislava:20260628T100000
DTEND;TZID=Europe/Bratislava:20260628T120000
DTSTAMP:20260425T182943
CREATED:20260408T134335Z
LAST-MODIFIED:20260408T134410Z
UID:14230-1782640800-1782648000@www.slovozivota.sk
SUMMARY:Bohoslužba v SŽ Banská Štiavnica
DESCRIPTION:káže: Jozef Turic
URL:https://www.slovozivota.sk/udalost/bohosluzba-v-sz-banska-stiavnica-15/
LOCATION:Slovo života BŠ\, Križovatka 1808/12A\, Banská Štiavnica\, Slovakia (Slovak Republic)
ATTACH;FMTTYPE=image/jpeg:https://www.slovozivota.sk/wp-content/uploads/2025/08/banner_bohosluzba_kaze_insta_turic.jpg
ORGANIZER;CN="Slovo %C5%BEivota Bratislava":MAILTO:slovozivota@slovozivota.sk
END:VEVENT
BEGIN:VEVENT
DTSTART;TZID=Europe/Bratislava:20260628T100000
DTEND;TZID=Europe/Bratislava:20260628T121500
DTSTAMP:20260425T182943
CREATED:20260408T133129Z
LAST-MODIFIED:20260408T133129Z
UID:14216-1782640800-1782648900@www.slovozivota.sk
SUMMARY:Bohoslužba
DESCRIPTION:Pozývame vás na bohoslužbu na Tomášikovej\, samozrejme naďalej zabezpečujeme aj ONLINE prenos. \nSlovo: Peter Čuřík\nZbierka: Katka Čuříková
URL:https://www.slovozivota.sk/udalost/bohosluzba-216/
LOCATION:Slovo života\, Tomášikova 30B\, Bratislava
CATEGORIES:G1,SPARK,Uvod
ATTACH;FMTTYPE=image/jpeg:https://www.slovozivota.sk/wp-content/uploads/2025/07/banner_bohosluzba_Tomasikova_insta_Curik.jpg
ORGANIZER;CN="Slovo %C5%BEivota Bratislava":MAILTO:slovozivota@slovozivota.sk
END:VEVENT
BEGIN:VEVENT
DTSTART;VALUE=DATE:20260630
DTEND;VALUE=DATE:20260706
DTSTAMP:20260425T182943
CREATED:20260205T110444Z
LAST-MODIFIED:20260205T110444Z
UID:14001-1782777600-1783295999@www.slovozivota.sk
SUMMARY:Spark & G1 camp 2026
DESCRIPTION:
URL:https://www.slovozivota.sk/udalost/spark-g1-camp-2026/
LOCATION:Hotel Vrchy\, Bystrá 115\, Bystrá 115\, Bystrá\, 97701\, Slovakia (Slovak Republic)
CATEGORIES:G1,SPARK,Uvod
ORGANIZER;CN="Slovo %C5%BEivota Bratislava":MAILTO:slovozivota@slovozivota.sk
END:VEVENT
END:VCALENDAR