BEGIN:VCALENDAR
VERSION:2.0
PRODID:-//Slovo života - ECPv6.10.1.1//NONSGML v1.0//EN
CALSCALE:GREGORIAN
METHOD:PUBLISH
X-WR-CALNAME:Slovo života
X-ORIGINAL-URL:https://www.slovozivota.sk
X-WR-CALDESC:Events for Slovo života
REFRESH-INTERVAL;VALUE=DURATION:PT1H
X-Robots-Tag:noindex
X-PUBLISHED-TTL:PT1H
BEGIN:VTIMEZONE
TZID:Europe/Bratislava
BEGIN:DAYLIGHT
TZOFFSETFROM:+0100
TZOFFSETTO:+0200
TZNAME:CEST
DTSTART:20260329T010000
END:DAYLIGHT
BEGIN:STANDARD
TZOFFSETFROM:+0200
TZOFFSETTO:+0100
TZNAME:CET
DTSTART:20261025T010000
END:STANDARD
END:VTIMEZONE
BEGIN:VEVENT
DTSTART;VALUE=DATE:20260422
DTEND;VALUE=DATE:20260426
DTSTAMP:20260425T155339
CREATED:20250522T080922Z
LAST-MODIFIED:20250522T080922Z
UID:13234-1776816000-1777161599@www.slovozivota.sk
SUMMARY:WOLE summit
DESCRIPTION:WOLE summit pre vedúcich zborov Slova života Európa.
URL:https://www.slovozivota.sk/udalost/wole-summit-2/
LOCATION:Albánsko\, Durres\, Durres\, Albánsko
END:VEVENT
BEGIN:VEVENT
DTSTART;TZID=Europe/Bratislava:20260426T100000
DTEND;TZID=Europe/Bratislava:20260426T120000
DTSTAMP:20260425T155339
CREATED:20260218T101155Z
LAST-MODIFIED:20260218T101155Z
UID:14031-1777197600-1777204800@www.slovozivota.sk
SUMMARY:Bohoslužba v SŽ Banská Štiavnica
DESCRIPTION:káže: Matej Wittgruber
URL:https://www.slovozivota.sk/udalost/bohosluzba-v-sz-banska-stiavnica-16/
LOCATION:Slovo života BŠ\, Križovatka 1808/12A\, Banská Štiavnica\, Slovakia (Slovak Republic)
ORGANIZER;CN="Slovo %C5%BEivota Bratislava":MAILTO:slovozivota@slovozivota.sk
END:VEVENT
BEGIN:VEVENT
DTSTART;TZID=Europe/Bratislava:20260426T100000
DTEND;TZID=Europe/Bratislava:20260426T121500
DTSTAMP:20260425T155339
CREATED:20260327T141955Z
LAST-MODIFIED:20260408T131152Z
UID:14137-1777197600-1777205700@www.slovozivota.sk
SUMMARY:Bohoslužba
DESCRIPTION:Pozývame vás na bohoslužbu na Tomášikovej\, samozrejme naďalej zabezpečujeme aj ONLINE prenos. \nSlovo: Peter Čuřík\nZbierka: Ondrej Chrobák
URL:https://www.slovozivota.sk/udalost/bohosluzba-208/
LOCATION:Slovo života\, Tomášikova 30B\, Bratislava
CATEGORIES:G1,SPARK,Uvod
ATTACH;FMTTYPE=image/jpeg:https://www.slovozivota.sk/wp-content/uploads/2025/07/banner_bohosluzba_Tomasikova_insta_Curik.jpg
ORGANIZER;CN="Slovo %C5%BEivota Bratislava":MAILTO:slovozivota@slovozivota.sk
END:VEVENT
BEGIN:VEVENT
DTSTART;TZID=Europe/Bratislava:20260426T160000
DTEND;TZID=Europe/Bratislava:20260426T180000
DTSTAMP:20260425T155339
CREATED:20260408T131309Z
LAST-MODIFIED:20260408T131309Z
UID:14191-1777219200-1777226400@www.slovozivota.sk
SUMMARY:Bohoslužba v SŽ B. Bystrica
DESCRIPTION:slovo: Oto Illéš
URL:https://www.slovozivota.sk/udalost/bohosluzba-v-sz-b-bystrica-38/
LOCATION:Slovo života BB\, Kukučínova 8\, Banská Bystrica
ATTACH;FMTTYPE=image/jpeg:https://www.slovozivota.sk/wp-content/uploads/2025/08/banner_bohosluzba_kaze_insta_illes.jpg
ORGANIZER;CN="Slovo %C5%BEivota Bratislava":MAILTO:slovozivota@slovozivota.sk
END:VEVENT
BEGIN:VEVENT
DTSTART;TZID=Europe/Bratislava:20260427T183000
DTEND;TZID=Europe/Bratislava:20260427T200000
DTSTAMP:20260425T155339
CREATED:20260327T145509Z
LAST-MODIFIED:20260327T145509Z
UID:14158-1777314600-1777320000@www.slovozivota.sk
SUMMARY:Modlitby v sále
DESCRIPTION:Tentoraz nebude ZOOM modlitebná\, ale budeme spoločne naživo v sále na Tomášikovej 30. Príďte sa prihovárať pred Pánovu tvár spolu s nami! \nVedie: Martin Hunčár\, Jayne Rybánska\, Jonatan Pavelka\, Peter Váradi \nTéma: Za deti\, mladých\, príprava táborov \n 
URL:https://www.slovozivota.sk/udalost/modlitby-v-sale-18/
LOCATION:Slovo života\, Tomášikova 30B\, Bratislava
CATEGORIES:Uvod
ATTACH;FMTTYPE=image/png:https://www.slovozivota.sk/wp-content/uploads/2025/01/banner_modlitby_Tomasikova_pondelok.png
ORGANIZER;CN="Slovo %C5%BEivota Bratislava":MAILTO:slovozivota@slovozivota.sk
END:VEVENT
BEGIN:VEVENT
DTSTART;TZID=Europe/Bratislava:20260430T180000
DTEND;TZID=Europe/Bratislava:20260430T203000
DTSTAMP:20260425T155339
CREATED:20260326T102654Z
LAST-MODIFIED:20260326T102654Z
UID:14111-1777572000-1777581000@www.slovozivota.sk
SUMMARY:Spark
DESCRIPTION:Spark je stretnutie mládeže od 16 do 28 rokov. 🙂 \nDôležité informácie o stretnutí dostanú sparkisti cez chat a cez webstránku sparksz.sk.
URL:https://www.slovozivota.sk/udalost/spark-180/
LOCATION:Slovo života\, Tomášikova 30B\, Bratislava
CATEGORIES:SPARK,Uvod
ATTACH;FMTTYPE=image/jpeg:https://www.slovozivota.sk/wp-content/uploads/2025/07/banner_spark_insta_2025.jpg
ORGANIZER;CN="Slovo %C5%BEivota Bratislava":MAILTO:slovozivota@slovozivota.sk
END:VEVENT
END:VCALENDAR