BEGIN:VCALENDAR
VERSION:2.0
PRODID:-//Slovo života - ECPv6.10.1.1//NONSGML v1.0//EN
CALSCALE:GREGORIAN
METHOD:PUBLISH
X-WR-CALNAME:Slovo života
X-ORIGINAL-URL:https://www.slovozivota.sk/ru-ru
X-WR-CALDESC:Мероприятия для Slovo života
REFRESH-INTERVAL;VALUE=DURATION:PT1H
X-Robots-Tag:noindex
X-PUBLISHED-TTL:PT1H
BEGIN:VTIMEZONE
TZID:Europe/Bratislava
BEGIN:DAYLIGHT
TZOFFSETFROM:+0100
TZOFFSETTO:+0200
TZNAME:CEST
DTSTART:20260329T010000
END:DAYLIGHT
BEGIN:STANDARD
TZOFFSETFROM:+0200
TZOFFSETTO:+0100
TZNAME:CET
DTSTART:20261025T010000
END:STANDARD
END:VTIMEZONE
BEGIN:VEVENT
DTSTART;VALUE=DATE:20260630
DTEND;VALUE=DATE:20260706
DTSTAMP:20260426T045505
CREATED:20260205T110444Z
LAST-MODIFIED:20260205T110444Z
UID:14001-1782777600-1783295999@www.slovozivota.sk
SUMMARY:Spark & G1 camp 2026
DESCRIPTION:
URL:https://www.slovozivota.sk/ru-ru/udalost/spark-g1-camp-2026/
LOCATION:Hotel Vrchy\, Bystrá 115\, Bystrá 115\, Bystrá\, 97701\, Slovakia (Slovak Republic)
CATEGORIES:G1,SPARK,Uvod
ORGANIZER;CN="Slovo %C5%BEivota Bratislava":MAILTO:slovozivota@slovozivota.sk
END:VEVENT
BEGIN:VEVENT
DTSTART;VALUE=DATE:20260712
DTEND;VALUE=DATE:20260718
DTSTAMP:20260426T045505
CREATED:20250424T094620Z
LAST-MODIFIED:20260411T191728Z
UID:13089-1783814400-1784332799@www.slovozivota.sk
SUMMARY:Detský tábor Slova života
DESCRIPTION:Bližšie informácie a prihlasovanie sa sú už spustené. \nViac info
URL:https://www.slovozivota.sk/ru-ru/udalost/detsky-tabor-slova-zivota/
LOCATION:Chata Berea\, Okružná 3190\, Modra
CATEGORIES:G1,SPARK,Uvod
ATTACH;FMTTYPE=image/jpeg:https://www.slovozivota.sk/wp-content/uploads/2026/02/banner_detsky_tabor_2026_ppt.jpg
ORGANIZER;CN="Slovo %C5%BEivota Bratislava":MAILTO:slovozivota@slovozivota.sk
END:VEVENT
BEGIN:VEVENT
DTSTART;VALUE=DATE:20260728
DTEND;VALUE=DATE:20260803
DTSTAMP:20260426T045505
CREATED:20260408T134701Z
LAST-MODIFIED:20260409T084648Z
UID:14232-1785196800-1785715199@www.slovozivota.sk
SUMMARY:Európska konferencia v Uppsale
DESCRIPTION:Konferencia\, ktorá sa každoročne koná vo Švédskej Uppsale. Viac informácií hľadajte na stránkach a sociálnych sieťach Livets Ord Uppsala. \n\ninstagram\nweb-stránka
URL:https://www.slovozivota.sk/ru-ru/udalost/europska-konferencia-v-uppsale-5/
LOCATION:Livets Ord Uppsala\, Axel Johanssonsgata 3\, Uppsala\, Švedsko
CATEGORIES:G1,SPARK,Uvod
ATTACH;FMTTYPE=image/jpeg:https://www.slovozivota.sk/wp-content/uploads/2026/04/banner_konferencia_uppsala_2026_insta.jpg
END:VEVENT
END:VCALENDAR