BEGIN:VCALENDAR
VERSION:2.0
PRODID:-//Slovo života - ECPv6.10.1.1//NONSGML v1.0//EN
CALSCALE:GREGORIAN
METHOD:PUBLISH
X-WR-CALNAME:Slovo života
X-ORIGINAL-URL:https://www.slovozivota.sk/ru-ru
X-WR-CALDESC:Мероприятия для Slovo života
REFRESH-INTERVAL;VALUE=DURATION:PT1H
X-Robots-Tag:noindex
X-PUBLISHED-TTL:PT1H
BEGIN:VTIMEZONE
TZID:Europe/Bratislava
BEGIN:DAYLIGHT
TZOFFSETFROM:+0100
TZOFFSETTO:+0200
TZNAME:CEST
DTSTART:20260329T010000
END:DAYLIGHT
BEGIN:STANDARD
TZOFFSETFROM:+0200
TZOFFSETTO:+0100
TZNAME:CET
DTSTART:20261025T010000
END:STANDARD
END:VTIMEZONE
BEGIN:VEVENT
DTSTART;TZID=Europe/Bratislava:20260104T100000
DTEND;TZID=Europe/Bratislava:20260104T121500
DTSTAMP:20260426T015549
CREATED:20251208T175551Z
LAST-MODIFIED:20251208T175551Z
UID:13843-1767520800-1767528900@www.slovozivota.sk
SUMMARY:Bohoslužba
DESCRIPTION:Pozývame vás na bohoslužbu na Tomášikovej\, samozrejme naďalej zabezpečujeme aj ONLINE prenos. \nSlovo: Martin Hunčár\nZbierka: Ondrej Chrobák
URL:https://www.slovozivota.sk/ru-ru/udalost/bohosluzba-196/
LOCATION:Slovo života\, Tomášikova 30B\, Bratislava
CATEGORIES:G1,SPARK,Uvod
ATTACH;FMTTYPE=image/jpeg:https://www.slovozivota.sk/wp-content/uploads/2025/07/banner_bohosluzba_Tomasikova_insta_Huncar.jpg
ORGANIZER;CN="Slovo %C5%BEivota Bratislava":MAILTO:slovozivota@slovozivota.sk
END:VEVENT
BEGIN:VEVENT
DTSTART;TZID=Europe/Bratislava:20260111T100000
DTEND;TZID=Europe/Bratislava:20260111T121500
DTSTAMP:20260426T015549
CREATED:20251208T175714Z
LAST-MODIFIED:20251208T175714Z
UID:13845-1768125600-1768133700@www.slovozivota.sk
SUMMARY:Bohoslužba
DESCRIPTION:Pozývame vás na bohoslužbu na Tomášikovej\, samozrejme naďalej zabezpečujeme aj ONLINE prenos. \nSlovo: Peter Čuřík\nZbierka: Peter Čuřík Jr.
URL:https://www.slovozivota.sk/ru-ru/udalost/bohosluzba-197/
LOCATION:Slovo života\, Tomášikova 30B\, Bratislava
CATEGORIES:G1,SPARK,Uvod
ATTACH;FMTTYPE=image/jpeg:https://www.slovozivota.sk/wp-content/uploads/2025/07/banner_bohosluzba_Tomasikova_insta_Curik.jpg
ORGANIZER;CN="Slovo %C5%BEivota Bratislava":MAILTO:slovozivota@slovozivota.sk
END:VEVENT
BEGIN:VEVENT
DTSTART;TZID=Europe/Bratislava:20260112T183000
DTEND;TZID=Europe/Bratislava:20260112T201500
DTSTAMP:20260426T015549
CREATED:20251208T175938Z
LAST-MODIFIED:20260109T095100Z
UID:13848-1768242600-1768248900@www.slovozivota.sk
SUMMARY:Modlitebno-pôstný týždeň
DESCRIPTION:Modlitebné stretnutia budú od pondelka do piatku na Tomášikovej 30. \n7 dňový dobrovoľný zeleninový pôst vyhlasujeme od pondelka do nedele. \n  \nPresný program s témami nájdete na tomto linku.
URL:https://www.slovozivota.sk/ru-ru/udalost/modlitebno-postny-tyzden-9/
LOCATION:Slovo života\, Tomášikova 30B\, Bratislava
CATEGORIES:G1,SPARK,Uvod
ATTACH;FMTTYPE=image/jpeg:https://www.slovozivota.sk/wp-content/uploads/2026/01/banner_modlitebny_tyzden_2026_insta.jpg
ORGANIZER;CN="Slovo %C5%BEivota Bratislava":MAILTO:slovozivota@slovozivota.sk
END:VEVENT
BEGIN:VEVENT
DTSTART;TZID=Europe/Bratislava:20260113T183000
DTEND;TZID=Europe/Bratislava:20260113T201500
DTSTAMP:20260426T015549
CREATED:20260109T093157Z
LAST-MODIFIED:20260109T095112Z
UID:13868-1768329000-1768335300@www.slovozivota.sk
SUMMARY:Modlitebno-pôstný týždeň
DESCRIPTION:Modlitebné stretnutia budú od pondelka do piatku na Tomášikovej 30. \n7 dňový dobrovoľný zeleninový pôst vyhlasujeme od pondelka do nedele. \n  \nPresný program s témami nájdete na tomto linku.
URL:https://www.slovozivota.sk/ru-ru/udalost/modlitebno-postny-tyzden-10/
LOCATION:Slovo života\, Tomášikova 30B\, Bratislava
CATEGORIES:G1,SPARK,Uvod
ATTACH;FMTTYPE=image/jpeg:https://www.slovozivota.sk/wp-content/uploads/2026/01/banner_modlitebny_tyzden_2026_insta.jpg
ORGANIZER;CN="Slovo %C5%BEivota Bratislava":MAILTO:slovozivota@slovozivota.sk
END:VEVENT
BEGIN:VEVENT
DTSTART;TZID=Europe/Bratislava:20260114T183000
DTEND;TZID=Europe/Bratislava:20260114T201500
DTSTAMP:20260426T015549
CREATED:20260109T093256Z
LAST-MODIFIED:20260109T095210Z
UID:13870-1768415400-1768421700@www.slovozivota.sk
SUMMARY:Modlitebno-pôstný týždeň
DESCRIPTION:Modlitebné stretnutia budú od pondelka do piatku na Tomášikovej 30. \n7 dňový dobrovoľný zeleninový pôst vyhlasujeme od pondelka do nedele. \n  \nPresný program s témami nájdete na tomto linku.
URL:https://www.slovozivota.sk/ru-ru/udalost/modlitebno-postny-tyzden-11/
LOCATION:Slovo života\, Tomášikova 30B\, Bratislava
CATEGORIES:G1,SPARK,Uvod
ATTACH;FMTTYPE=image/jpeg:https://www.slovozivota.sk/wp-content/uploads/2026/01/banner_modlitebny_tyzden_2026_insta.jpg
ORGANIZER;CN="Slovo %C5%BEivota Bratislava":MAILTO:slovozivota@slovozivota.sk
END:VEVENT
BEGIN:VEVENT
DTSTART;TZID=Europe/Bratislava:20260115T183000
DTEND;TZID=Europe/Bratislava:20260115T201500
DTSTAMP:20260426T015549
CREATED:20260109T093334Z
LAST-MODIFIED:20260109T095135Z
UID:13872-1768501800-1768508100@www.slovozivota.sk
SUMMARY:Modlitebno-pôstný týždeň
DESCRIPTION:Modlitebné stretnutia budú od pondelka do piatku na Tomášikovej 30. \n7 dňový dobrovoľný zeleninový pôst vyhlasujeme od pondelka do nedele. \n  \nPresný program s témami nájdete na tomto linku.
URL:https://www.slovozivota.sk/ru-ru/udalost/modlitebno-postny-tyzden-12/
LOCATION:Slovo života\, Tomášikova 30B\, Bratislava
CATEGORIES:G1,SPARK,Uvod
ATTACH;FMTTYPE=image/jpeg:https://www.slovozivota.sk/wp-content/uploads/2026/01/banner_modlitebny_tyzden_2026_insta.jpg
ORGANIZER;CN="Slovo %C5%BEivota Bratislava":MAILTO:slovozivota@slovozivota.sk
END:VEVENT
BEGIN:VEVENT
DTSTART;TZID=Europe/Bratislava:20260116T183000
DTEND;TZID=Europe/Bratislava:20260116T221500
DTSTAMP:20260426T015549
CREATED:20260109T093423Z
LAST-MODIFIED:20260109T095309Z
UID:13874-1768588200-1768601700@www.slovozivota.sk
SUMMARY:Modlitebno-pôstný týždeň
DESCRIPTION:Modlitebné stretnutia budú od pondelka do piatku na Tomášikovej 30. \n7 dňový dobrovoľný zeleninový pôst vyhlasujeme od pondelka do nedele. \n  \nPresný program s témami nájdete na tomto linku.
URL:https://www.slovozivota.sk/ru-ru/udalost/modlitebno-postny-tyzden-13/
LOCATION:Slovo života\, Tomášikova 30B\, Bratislava
CATEGORIES:G1,SPARK,Uvod
ATTACH;FMTTYPE=image/jpeg:https://www.slovozivota.sk/wp-content/uploads/2026/01/banner_modlitebny_tyzden_2026_insta.jpg
ORGANIZER;CN="Slovo %C5%BEivota Bratislava":MAILTO:slovozivota@slovozivota.sk
END:VEVENT
BEGIN:VEVENT
DTSTART;TZID=Europe/Bratislava:20260118T100000
DTEND;TZID=Europe/Bratislava:20260118T121500
DTSTAMP:20260426T015549
CREATED:20260109T194316Z
LAST-MODIFIED:20260109T194316Z
UID:13883-1768730400-1768738500@www.slovozivota.sk
SUMMARY:Bohoslužba
DESCRIPTION:Pozývame vás na bohoslužbu na Tomášikovej\, samozrejme naďalej zabezpečujeme aj ONLINE prenos. \nSlovo: Peter Čuřík\nZbierka: Jano Pavelka
URL:https://www.slovozivota.sk/ru-ru/udalost/bohosluzba-198/
LOCATION:Slovo života\, Tomášikova 30B\, Bratislava
CATEGORIES:G1,SPARK,Uvod
ATTACH;FMTTYPE=image/jpeg:https://www.slovozivota.sk/wp-content/uploads/2025/07/banner_bohosluzba_Tomasikova_insta_Curik.jpg
ORGANIZER;CN="Slovo %C5%BEivota Bratislava":MAILTO:slovozivota@slovozivota.sk
END:VEVENT
BEGIN:VEVENT
DTSTART;TZID=Europe/Bratislava:20260122T180000
DTEND;TZID=Europe/Bratislava:20260122T203000
DTSTAMP:20260426T015549
CREATED:20260110T002837Z
LAST-MODIFIED:20260110T002837Z
UID:13902-1769104800-1769113800@www.slovozivota.sk
SUMMARY:Spark
DESCRIPTION:Spark je stretnutie mládeže od 16 do 28 rokov. 🙂 \nDôležité informácie o stretnutí dostanú sparkisti cez chat a cez webstránku sparksz.sk.
URL:https://www.slovozivota.sk/ru-ru/udalost/spark-168/
LOCATION:Slovo života\, Tomášikova 30B\, Bratislava
CATEGORIES:SPARK,Uvod
ATTACH;FMTTYPE=image/jpeg:https://www.slovozivota.sk/wp-content/uploads/2025/07/banner_spark_insta_2025.jpg
ORGANIZER;CN="Slovo %C5%BEivota Bratislava":MAILTO:slovozivota@slovozivota.sk
END:VEVENT
BEGIN:VEVENT
DTSTART;TZID=Europe/Bratislava:20260123T173000
DTEND;TZID=Europe/Bratislava:20260123T193000
DTSTAMP:20260426T015549
CREATED:20260110T003516Z
LAST-MODIFIED:20260110T003516Z
UID:13920-1769189400-1769196600@www.slovozivota.sk
SUMMARY:G1
DESCRIPTION:G1 je stretnutie dorastu. \nSledujte sociálne siete G1\, aby ste sa dozvedeli presné miesto a čas stretnutia.
URL:https://www.slovozivota.sk/ru-ru/udalost/g1-86/
LOCATION:Slovo života\, Tomášikova 30B\, Bratislava
CATEGORIES:G1,Uvod
ATTACH;FMTTYPE=image/jpeg:https://www.slovozivota.sk/wp-content/uploads/2025/01/banner_g1_dlhy-scaled.jpg
ORGANIZER;CN="Slovo %C5%BEivota Bratislava":MAILTO:slovozivota@slovozivota.sk
END:VEVENT
BEGIN:VEVENT
DTSTART;VALUE=DATE:20260124
DTEND;VALUE=DATE:20260125
DTSTAMP:20260426T015549
CREATED:20260110T004833Z
LAST-MODIFIED:20260110T004833Z
UID:13940-1769212800-1769299199@www.slovozivota.sk
SUMMARY:Na tvári pred Tebou
DESCRIPTION:Miesto stretnutia: Važec
URL:https://www.slovozivota.sk/ru-ru/udalost/na-tvari-pred-tebou/
END:VEVENT
BEGIN:VEVENT
DTSTART;VALUE=DATE:20260125
DTEND;VALUE=DATE:20260203
DTSTAMP:20260426T015549
CREATED:20260110T005315Z
LAST-MODIFIED:20260110T005315Z
UID:13944-1769299200-1770076799@www.slovozivota.sk
SUMMARY:Vyučovanie na biblickej škole v Indii
DESCRIPTION:Martin Hunčár
URL:https://www.slovozivota.sk/ru-ru/udalost/vyucovanie-na-biblickej-skole-v-indii-2/
ATTACH;FMTTYPE=image/jpeg:https://www.slovozivota.sk/wp-content/uploads/2025/08/banner_bohosluzba_kaze_insta_huncar.jpg
END:VEVENT
BEGIN:VEVENT
DTSTART;TZID=Europe/Bratislava:20260125T100000
DTEND;TZID=Europe/Bratislava:20260125T120000
DTSTAMP:20260426T015549
CREATED:20260110T005016Z
LAST-MODIFIED:20260110T005016Z
UID:13942-1769335200-1769342400@www.slovozivota.sk
SUMMARY:Bohoslužba v SŽ Nitra
DESCRIPTION:slovo: Andrej Rudolf
URL:https://www.slovozivota.sk/ru-ru/udalost/bohosluzba-v-sz-nitra-22/
LOCATION:Slovo života Nitra\, Mariánska dolina 14\, Nitra\, Slovenská republika
ATTACH;FMTTYPE=image/jpeg:https://www.slovozivota.sk/wp-content/uploads/2025/08/banner_bohosluzba_kaze_insta_rudolf.jpg
ORGANIZER;CN="Slovo %C5%BEivota Bratislava":MAILTO:slovozivota@slovozivota.sk
END:VEVENT
BEGIN:VEVENT
DTSTART;TZID=Europe/Bratislava:20260125T100000
DTEND;TZID=Europe/Bratislava:20260125T121500
DTSTAMP:20260426T015549
CREATED:20260109T194457Z
LAST-MODIFIED:20260109T194457Z
UID:13885-1769335200-1769343300@www.slovozivota.sk
SUMMARY:Bohoslužba
DESCRIPTION:Pozývame vás na bohoslužbu na Tomášikovej\, samozrejme naďalej zabezpečujeme aj ONLINE prenos. \nSlovo: Katka Čuříková\nZbierka: Jozef Turic
URL:https://www.slovozivota.sk/ru-ru/udalost/bohosluzba-199/
LOCATION:Slovo života\, Tomášikova 30B\, Bratislava
CATEGORIES:G1,SPARK,Uvod
ATTACH;FMTTYPE=image/png:https://www.slovozivota.sk/wp-content/uploads/2025/07/banner_bohosluzba_Tomasikova_insta_Curikova.png
ORGANIZER;CN="Slovo %C5%BEivota Bratislava":MAILTO:slovozivota@slovozivota.sk
END:VEVENT
BEGIN:VEVENT
DTSTART;TZID=Europe/Bratislava:20260126T190000
DTEND;TZID=Europe/Bratislava:20260126T200000
DTSTAMP:20260426T015549
CREATED:20260110T003931Z
LAST-MODIFIED:20260110T003931Z
UID:13930-1769454000-1769457600@www.slovozivota.sk
SUMMARY:Modlitby cez ZOOM
DESCRIPTION:Link v ste dostali v mailoch. \nVedú: Tomáš Šimko\, Janči Laurovič\, Jonatan Pavelka\, Peťo Váradi \nTéma: Za Mládežnícku konferenciu
URL:https://www.slovozivota.sk/ru-ru/udalost/modlitby-cez-zoom-130/
LOCATION:Slovo života\, Tomášikova 30B\, Bratislava
CATEGORIES:Uvod
ATTACH;FMTTYPE=image/jpeg:https://www.slovozivota.sk/wp-content/uploads/2020/08/banner_modlitby_online-1.jpg
ORGANIZER;CN="Slovo %C5%BEivota Bratislava":MAILTO:slovozivota@slovozivota.sk
END:VEVENT
BEGIN:VEVENT
DTSTART;VALUE=DATE:20260129
DTEND;VALUE=DATE:20260202
DTSTAMP:20260426T015549
CREATED:20251125T123023Z
LAST-MODIFIED:20251125T130557Z
UID:13798-1769644800-1769990399@www.slovozivota.sk
SUMMARY:Mládežnícka konferencia v Brne
DESCRIPTION:Téma: POVSTAŇ K BOJI! \nRegistrácia je spustená.
URL:https://www.slovozivota.sk/ru-ru/udalost/mladeznicka-konferencia-v-brne-3/
LOCATION:Slovo života Brno\, Nové sady 37\, Brno\, Česká republika
CATEGORIES:G1,SPARK,Uvod
ATTACH;FMTTYPE=image/jpeg:https://www.slovozivota.sk/wp-content/uploads/2025/11/banner_konferencia_mladeze_brno_2026_insta.jpg
END:VEVENT
BEGIN:VEVENT
DTSTART;TZID=Europe/Bratislava:20260130T173000
DTEND;TZID=Europe/Bratislava:20260130T193000
DTSTAMP:20260426T015549
CREATED:20260128T144134Z
LAST-MODIFIED:20260128T144134Z
UID:13996-1769794200-1769801400@www.slovozivota.sk
SUMMARY:G1
DESCRIPTION:G1 je stretnutie dorastu. \nSledujte sociálne siete G1\, aby ste sa dozvedeli presné miesto a čas stretnutia.
URL:https://www.slovozivota.sk/ru-ru/udalost/g1-97/
LOCATION:Slovo života\, Tomášikova 30B\, Bratislava
CATEGORIES:G1,Uvod
ATTACH;FMTTYPE=image/jpeg:https://www.slovozivota.sk/wp-content/uploads/2025/01/banner_g1_dlhy-scaled.jpg
ORGANIZER;CN="Slovo %C5%BEivota Bratislava":MAILTO:slovozivota@slovozivota.sk
END:VEVENT
END:VCALENDAR