BEGIN:VCALENDAR
VERSION:2.0
PRODID:-//Slovo života - ECPv6.10.1.1//NONSGML v1.0//EN
CALSCALE:GREGORIAN
METHOD:PUBLISH
X-WR-CALNAME:Slovo života
X-ORIGINAL-URL:https://www.slovozivota.sk/ru-ru
X-WR-CALDESC:Мероприятия для Slovo života
REFRESH-INTERVAL;VALUE=DURATION:PT1H
X-Robots-Tag:noindex
X-PUBLISHED-TTL:PT1H
BEGIN:VTIMEZONE
TZID:Europe/Bratislava
BEGIN:DAYLIGHT
TZOFFSETFROM:+0100
TZOFFSETTO:+0200
TZNAME:CEST
DTSTART:20260329T010000
END:DAYLIGHT
BEGIN:STANDARD
TZOFFSETFROM:+0200
TZOFFSETTO:+0100
TZNAME:CET
DTSTART:20261025T010000
END:STANDARD
END:VTIMEZONE
BEGIN:VEVENT
DTSTART;TZID=Europe/Bratislava:20260222T100000
DTEND;TZID=Europe/Bratislava:20260222T143000
DTSTAMP:20260425T212146
CREATED:20260109T195800Z
LAST-MODIFIED:20260218T101721Z
UID:13899-1771754400-1771770600@www.slovozivota.sk
SUMMARY:Deň pre Izrael
DESCRIPTION:Pozývame vás na bohoslužbu na Tomášikovej\, samozrejme naďalej zabezpečujeme aj ONLINE prenos. \nProgram:\n10:00 – Bohoslužba\, príhovor: pastor Peter Čuřík a Peter Švec\, predseda ICEJ; chvály\, kapela Slovo života Bratislava\n12:15 – občerstvenie v kaviarni\n13:00 – Špeciálny hosť Richard Duda\, predseda Ústredného zväzu židovských náboženských obcí v Slovenskej republike\nPrednáška na tému: 7. október – čo znamenal pre židovskú komunitu na Slovensku?\nSúčasťou bude aj moderovaná diskusia\n14:30 – plánovaný záver \n 
URL:https://www.slovozivota.sk/ru-ru/udalost/den-pre-izrael-3/
LOCATION:Slovo života\, Tomášikova 30B\, Bratislava
CATEGORIES:G1,SPARK,Uvod
ATTACH;FMTTYPE=image/jpeg:https://www.slovozivota.sk/wp-content/uploads/2026/02/banner_den_pre_Izrael_2026_ppt.jpg
ORGANIZER;CN="Slovo %C5%BEivota Bratislava":MAILTO:slovozivota@slovozivota.sk
END:VEVENT
END:VCALENDAR