BEGIN:VCALENDAR
VERSION:2.0
PRODID:-//Slovo života - ECPv6.10.1.1//NONSGML v1.0//EN
CALSCALE:GREGORIAN
METHOD:PUBLISH
X-WR-CALNAME:Slovo života
X-ORIGINAL-URL:https://www.slovozivota.sk/ru-ru
X-WR-CALDESC:Мероприятия для Slovo života
REFRESH-INTERVAL;VALUE=DURATION:PT1H
X-Robots-Tag:noindex
X-PUBLISHED-TTL:PT1H
BEGIN:VTIMEZONE
TZID:Europe/Bratislava
BEGIN:DAYLIGHT
TZOFFSETFROM:+0100
TZOFFSETTO:+0200
TZNAME:CEST
DTSTART:20260329T010000
END:DAYLIGHT
BEGIN:STANDARD
TZOFFSETFROM:+0200
TZOFFSETTO:+0100
TZNAME:CET
DTSTART:20261025T010000
END:STANDARD
END:VTIMEZONE
BEGIN:VEVENT
DTSTART;TZID=Europe/Bratislava:20260412T100000
DTEND;TZID=Europe/Bratislava:20260412T120000
DTSTAMP:20260425T185524
CREATED:20260327T142738Z
LAST-MODIFIED:20260327T142738Z
UID:14152-1775988000-1775995200@www.slovozivota.sk
SUMMARY:Bohoslužba v SŽ Nitra
DESCRIPTION:slovo: Janka Hrivnáková
URL:https://www.slovozivota.sk/ru-ru/udalost/bohosluzba-v-sz-nitra-23/
LOCATION:Slovo života Nitra\, Mariánska dolina 14\, Nitra\, Slovenská republika
ATTACH;FMTTYPE=image/jpeg:https://www.slovozivota.sk/wp-content/uploads/2025/08/banner_bohosluzba_kaze_insta_hrivnakova.jpg
ORGANIZER;CN="Slovo %C5%BEivota Bratislava":MAILTO:slovozivota@slovozivota.sk
END:VEVENT
BEGIN:VEVENT
DTSTART;TZID=Europe/Bratislava:20260412T100000
DTEND;TZID=Europe/Bratislava:20260412T121500
DTSTAMP:20260425T185524
CREATED:20260327T141757Z
LAST-MODIFIED:20260411T191940Z
UID:14135-1775988000-1775996100@www.slovozivota.sk
SUMMARY:Bohoslužba
DESCRIPTION:Pozývame vás na bohoslužbu na Tomášikovej\, samozrejme naďalej zabezpečujeme aj ONLINE prenos. \nSlovo: Peter Čuřík\nZbierka: Martin Barus
URL:https://www.slovozivota.sk/ru-ru/udalost/bohosluzba-207/
LOCATION:Slovo života\, Tomášikova 30B\, Bratislava
CATEGORIES:G1,SPARK,Uvod
ATTACH;FMTTYPE=image/jpeg:https://www.slovozivota.sk/wp-content/uploads/2025/07/banner_bohosluzba_Tomasikova_insta_Curik.jpg
ORGANIZER;CN="Slovo %C5%BEivota Bratislava":MAILTO:slovozivota@slovozivota.sk
END:VEVENT
END:VCALENDAR