BEGIN:VCALENDAR
VERSION:2.0
PRODID:-//Slovo života - ECPv6.10.1.1//NONSGML v1.0//EN
CALSCALE:GREGORIAN
METHOD:PUBLISH
X-WR-CALNAME:Slovo života
X-ORIGINAL-URL:https://www.slovozivota.sk/ru-ru
X-WR-CALDESC:Мероприятия для Slovo života
REFRESH-INTERVAL;VALUE=DURATION:PT1H
X-Robots-Tag:noindex
X-PUBLISHED-TTL:PT1H
BEGIN:VTIMEZONE
TZID:Europe/Bratislava
BEGIN:DAYLIGHT
TZOFFSETFROM:+0100
TZOFFSETTO:+0200
TZNAME:CEST
DTSTART:20260329T010000
END:DAYLIGHT
BEGIN:STANDARD
TZOFFSETFROM:+0200
TZOFFSETTO:+0100
TZNAME:CET
DTSTART:20261025T010000
END:STANDARD
END:VTIMEZONE
BEGIN:VEVENT
DTSTART;TZID=Europe/Bratislava:20260215T100000
DTEND;TZID=Europe/Bratislava:20260215T120000
DTSTAMP:20260426T033215
CREATED:20260110T005755Z
LAST-MODIFIED:20260110T005755Z
UID:13948-1771149600-1771156800@www.slovozivota.sk
SUMMARY:Bohoslužba v SŽ Banská Štiavnica
DESCRIPTION:káže: Martin Hunčár
URL:https://www.slovozivota.sk/ru-ru/udalost/bohosluzba-v-sz-banska-stiavnica-14/
LOCATION:Slovo života BŠ\, Križovatka 1808/12A\, Banská Štiavnica\, Slovakia (Slovak Republic)
ATTACH;FMTTYPE=image/jpeg:https://www.slovozivota.sk/wp-content/uploads/2025/08/banner_bohosluzba_kaze_insta_huncar.jpg
ORGANIZER;CN="Slovo %C5%BEivota Bratislava":MAILTO:slovozivota@slovozivota.sk
END:VEVENT
END:VCALENDAR