BEGIN:VCALENDAR
VERSION:2.0
PRODID:-//Slovo života - ECPv6.10.1.1//NONSGML v1.0//EN
CALSCALE:GREGORIAN
METHOD:PUBLISH
X-WR-CALNAME:Slovo života
X-ORIGINAL-URL:https://www.slovozivota.sk/ru-ru
X-WR-CALDESC:Мероприятия для Slovo života
REFRESH-INTERVAL;VALUE=DURATION:PT1H
X-Robots-Tag:noindex
X-PUBLISHED-TTL:PT1H
BEGIN:VTIMEZONE
TZID:Europe/Bratislava
BEGIN:DAYLIGHT
TZOFFSETFROM:+0100
TZOFFSETTO:+0200
TZNAME:CEST
DTSTART:20250330T010000
END:DAYLIGHT
BEGIN:STANDARD
TZOFFSETFROM:+0200
TZOFFSETTO:+0100
TZNAME:CET
DTSTART:20251026T010000
END:STANDARD
END:VTIMEZONE
BEGIN:VEVENT
DTSTART;TZID=Europe/Bratislava:20251231T180000
DTEND;TZID=Europe/Bratislava:20251231T220000
DTSTAMP:20260426T034352
CREATED:20251208T175003Z
LAST-MODIFIED:20251229T195054Z
UID:13839-1767204000-1767218400@www.slovozivota.sk
SUMMARY:Silvestrovský večer s večerou
DESCRIPTION:Na Silvestrovskú bohoslužbu vás prosíme O PRIHLÁSENIE SA\, aby náš skvelý tím v kuchyni vedel pre nás pripraviť výborné jedlo. Budeme mať viedenský zemiakový šalát\, kurací rezeň\, výborný koláč a k tomu nápoj iba za 7\,50 Eur. Deti do 12 r. a seniori platia 5 Eur. Zaplatíte priamo na mieste. \nZačíname večerou a spoločenstvom o 18.00. Potom cca o 19.45 začne bohoslužba\, kde bude aj Večera Pánova\, nejaké bonusy\, a samozrejme Božie slovo. Verím\, že Pán mi znova položí na srdce prorocký odkaz\, ktorý pre cirkev pripravil. \nProsíme\, aby ste každého človeka prihlásili samostatne\, mail môžete použiť aj ten istý. 🙂 \n\n                    SilvesterPotvrdenie o zaregistrovaní dostanete okamžite e-mailom (skontrolujte si prípadne aj SPAM priečinok). MenoPriezviskoEmailRegistrácia
URL:https://www.slovozivota.sk/ru-ru/udalost/silvestrovsky-vecer-s-vecerou/
LOCATION:Slovo života\, Tomášikova 30B\, Bratislava
CATEGORIES:G1,SPARK,Uvod
ATTACH;FMTTYPE=image/jpeg:https://www.slovozivota.sk/wp-content/uploads/2025/12/banner_silvester_2025_insta.jpg
ORGANIZER;CN="Slovo %C5%BEivota Bratislava":MAILTO:slovozivota@slovozivota.sk
END:VEVENT
END:VCALENDAR