BEGIN:VCALENDAR
VERSION:2.0
PRODID:-//Slovo života - ECPv6.10.1.1//NONSGML v1.0//EN
CALSCALE:GREGORIAN
METHOD:PUBLISH
X-WR-CALNAME:Slovo života
X-ORIGINAL-URL:https://www.slovozivota.sk/ru-ru
X-WR-CALDESC:Мероприятия для Slovo života
REFRESH-INTERVAL;VALUE=DURATION:PT1H
X-Robots-Tag:noindex
X-PUBLISHED-TTL:PT1H
BEGIN:VTIMEZONE
TZID:Europe/Bratislava
BEGIN:DAYLIGHT
TZOFFSETFROM:+0100
TZOFFSETTO:+0200
TZNAME:CEST
DTSTART:20250330T010000
END:DAYLIGHT
BEGIN:STANDARD
TZOFFSETFROM:+0200
TZOFFSETTO:+0100
TZNAME:CET
DTSTART:20251026T010000
END:STANDARD
END:VTIMEZONE
BEGIN:VEVENT
DTSTART;TZID=Europe/Bratislava:20251212T180000
DTEND;TZID=Europe/Bratislava:20251212T203000
DTSTAMP:20260426T053720
CREATED:20251127T154045Z
LAST-MODIFIED:20251127T154045Z
UID:13808-1765562400-1765571400@www.slovozivota.sk
SUMMARY:Vianočný Spark & G1
DESCRIPTION:Spark je stretnutie mládeže od 16 do 28 rokov. \nG1 je stretnutie dorastu od 13 do 15 rokov. \nTentokrát však budú mať spoločnú Christmas party. \nDôležité informácie o stretnutí dostanú sparkisti cez chat a cez webstránku sparksz.sk.
URL:https://www.slovozivota.sk/ru-ru/udalost/vianocny-spark-g1-3/
LOCATION:Slovo života\, Tomášikova 30B\, Bratislava
CATEGORIES:SPARK,Uvod
ORGANIZER;CN="Slovo %C5%BEivota Bratislava":MAILTO:slovozivota@slovozivota.sk
END:VEVENT
END:VCALENDAR