BEGIN:VCALENDAR
VERSION:2.0
PRODID:-//Slovo života - ECPv6.10.1.1//NONSGML v1.0//EN
CALSCALE:GREGORIAN
METHOD:PUBLISH
X-WR-CALNAME:Slovo života
X-ORIGINAL-URL:https://www.slovozivota.sk
X-WR-CALDESC:Events for Slovo života
REFRESH-INTERVAL;VALUE=DURATION:PT1H
X-Robots-Tag:noindex
X-PUBLISHED-TTL:PT1H
BEGIN:VTIMEZONE
TZID:Europe/Bratislava
BEGIN:DAYLIGHT
TZOFFSETFROM:+0100
TZOFFSETTO:+0200
TZNAME:CEST
DTSTART:20260329T010000
END:DAYLIGHT
BEGIN:STANDARD
TZOFFSETFROM:+0200
TZOFFSETTO:+0100
TZNAME:CET
DTSTART:20261025T010000
END:STANDARD
END:VTIMEZONE
BEGIN:VEVENT
DTSTART;TZID=Europe/Bratislava:20260511T190000
DTEND;TZID=Europe/Bratislava:20260511T200000
DTSTAMP:20260425T182828
CREATED:20260327T145819Z
LAST-MODIFIED:20260327T145819Z
UID:14162-1778526000-1778529600@www.slovozivota.sk
SUMMARY:Modlitby cez ZOOM
DESCRIPTION:Link v ste dostali v mailoch. \nVedú: Katka Čuříková\, Ivonka Chrobáková\, Janka Hrivnáková \nTéma: Za misiu a domáci zbor
URL:https://www.slovozivota.sk/udalost/modlitby-cez-zoom-132/
LOCATION:Slovo života\, Tomášikova 30B\, Bratislava
CATEGORIES:Uvod
ATTACH;FMTTYPE=image/jpeg:https://www.slovozivota.sk/wp-content/uploads/2020/08/banner_modlitby_online-1.jpg
ORGANIZER;CN="Slovo %C5%BEivota Bratislava":MAILTO:slovozivota@slovozivota.sk
END:VEVENT
END:VCALENDAR